BEGIN:VCALENDAR
VERSION:2.0
PRODID:-//Apple Inc.//iCal 5.0.2//EN
CALSCALE:GREGORIAN
BEGIN:VTIMEZONE
TZID:Australia/
BEGIN:STANDARD
TZOFFSETFROM:+1100
RRULE:FREQ=YEARLY;BYMONTH=4;BYDAY=1SU
DTSTART:20080406T030000
TZNAME:
TZOFFSETTO:+
END:STANDARD
BEGIN:DAYLIGHT
TZOFFSETFROM:+
RRULE:FREQ=YEARLY;BYMONTH=10;BYDAY=1SU
DTSTART:20081005T020000
TZNAME:AEDT
TZOFFSETTO:+1100
END:DAYLIGHT
END:VTIMEZONE
BEGIN:VEVENT
CREATED:20190228T155259
UID:Property4772162Inspection51680955
DTEND;TZID=Australia/:20190302T115500
TRANSP:OPAQUE
SUMMARY:Open For Inspection: 12 Roach Avenue, THORNLEIGH
DESCRIPTION:BEST OF BOTH WORLDS!  QUIET LOCATION, WALK TO RAIL AND SHOPS. - Just renovated spacious family home that is bathed in sunlight. 

Features 4 generous size bedrooms with built in wardrobes, brand new ensuite in main bedroom, separate lounge with new bamboo flooring and large windows.  

Ducted air conditioning throughout.  Brand new large tiled kitchen with new appliances. New modern bathroom with bath tub and internal laundry.  Massive size yard plus carport with store room.  

Close proximity to Thornleigh West Primary School, walking distance to Thornleigh Railway and Westleigh shops.


Disclaimer: "We have been furnished with the above information, however, Homefront give no guarantees, undertakings or warnings concerning the accuracy, completeness or up-to-date nature of the information provided.  All interested parties are responsible for their own independent enquiries in order to determine whether or not this information is in fact accurate.

LAST-MODIFIED:20190228T155259
DTSTAMP:20190228T155259
DTSTART;TZID=Australia/:20190302T114000
LOCATION:12 Roach Avenue THORNLEIGH NSW 2120
URL:http://www.homefront.com.au/4772162
SEQUENCE:0
END:VEVENT
END:VCALENDAR
