BEGIN:VCALENDAR
VERSION:2.0
PRODID:-//Apple Inc.//iCal 5.0.2//EN
CALSCALE:GREGORIAN
BEGIN:VTIMEZONE
TZID:Australia/
BEGIN:STANDARD
TZOFFSETFROM:+1100
RRULE:FREQ=YEARLY;BYMONTH=4;BYDAY=1SU
DTSTART:20080406T030000
TZNAME:
TZOFFSETTO:+
END:STANDARD
BEGIN:DAYLIGHT
TZOFFSETFROM:+
RRULE:FREQ=YEARLY;BYMONTH=10;BYDAY=1SU
DTSTART:20081005T020000
TZNAME:AEDT
TZOFFSETTO:+1100
END:DAYLIGHT
END:VTIMEZONE
BEGIN:VEVENT
CREATED:20190228T155253
UID:Property4772552Inspection51680945
DTEND;TZID=Australia/:20190302T112500
TRANSP:OPAQUE
SUMMARY:Open For Inspection: 2/8-10 Albion Street, PENNANT HILLS
DESCRIPTION:Stylish Townhouse - Situated in a premier boutique development and is positioned on an elevated easy care garden block.

Delightful residence with a lovely open plan living concept and enjoying a sunny north facing rear aspect.

Offers 3 bedrooms all with built-ins and ensuite in main.

Well presented kitchen with gas cooking

Split system air conditioning.

Double lock up garage with internal access and ample storage

Privately positioned with a fenced and landscaped back garden.

Conveniently located and is within close proximity to Pennant Hills Rail, shops and schools.

PLEASE NOTE: Do NOT enter the premises without being accompanied by a Real Estate Agent.

Disclaimer: "We have been furnished with the above information, however, Homefront give no guarantees, undertakings or warnings concerning the accuracy, completeness or up-to-date nature of the information provided.  All interested parties are responsible for their own independent enquiries in order to determine whether or not this information is in fact accurate.






LAST-MODIFIED:20190228T155253
DTSTAMP:20190228T155253
DTSTART;TZID=Australia/:20190302T111000
LOCATION:2/8-10 Albion Street PENNANT HILLS NSW 2120
URL:http://www.homefront.com.au/4772552
SEQUENCE:0
END:VEVENT
END:VCALENDAR
