BEGIN:VCALENDAR
VERSION:2.0
PRODID:-//Apple Inc.//iCal 5.0.2//EN
CALSCALE:GREGORIAN
BEGIN:VTIMEZONE
TZID:Australia/
BEGIN:STANDARD
TZOFFSETFROM:+1100
RRULE:FREQ=YEARLY;BYMONTH=4;BYDAY=1SU
DTSTART:20080406T030000
TZNAME:
TZOFFSETTO:+
END:STANDARD
BEGIN:DAYLIGHT
TZOFFSETFROM:+
RRULE:FREQ=YEARLY;BYMONTH=10;BYDAY=1SU
DTSTART:20081005T020000
TZNAME:AEDT
TZOFFSETTO:+1100
END:DAYLIGHT
END:VTIMEZONE
BEGIN:VEVENT
CREATED:20190228T155304
UID:Property4772742Inspection51680961
DTEND;TZID=Australia/:20190302T124000
TRANSP:OPAQUE
SUMMARY:Open For Inspection: 28 Edwards Road, WAHROONGA
DESCRIPTION:GREAT VALUE-Garden Flat - Large 1 Bedroom,1 Bath, half house with abundant light and space. 

This unit features polished floorboards, a full sized kitchen, large living area and internal laundry.

Offering off street parking, close to shops, bus and rail!

Pets considered

DO NOT ENTER PREMISES UNLESS ACCOMPANIED BY AGENT

Disclaimer: "We have been furnished with the above information, however, Homefront give no guarantees, undertakings or warnings concerning the accuracy, completeness or up-to-date nature of the information provided.  All interested parties are responsible for their own independent enquiries in order to determine whether or not this information is in fact accurate.
LAST-MODIFIED:20190228T155304
DTSTAMP:20190228T155304
DTSTART;TZID=Australia/:20190302T122500
LOCATION:28 Edwards Road WAHROONGA NSW 2076
URL:http://www.homefront.com.au/4772742
SEQUENCE:0
END:VEVENT
END:VCALENDAR
