BEGIN:VCALENDAR
VERSION:2.0
PRODID:-//Apple Inc.//iCal 5.0.2//EN
CALSCALE:GREGORIAN
BEGIN:VTIMEZONE
TZID:Australia/
BEGIN:STANDARD
TZOFFSETFROM:+1100
RRULE:FREQ=YEARLY;BYMONTH=4;BYDAY=1SU
DTSTART:20080406T030000
TZNAME:
TZOFFSETTO:+
END:STANDARD
BEGIN:DAYLIGHT
TZOFFSETFROM:+
RRULE:FREQ=YEARLY;BYMONTH=10;BYDAY=1SU
DTSTART:20081005T020000
TZNAME:AEDT
TZOFFSETTO:+1100
END:DAYLIGHT
END:VTIMEZONE
BEGIN:VEVENT
CREATED:20190228T155307
UID:Property5365972Inspection51680962
DTEND;TZID=Australia/:20190302T131000
TRANSP:OPAQUE
SUMMARY:Open For Inspection: 15 Wells St, Thornleigh
DESCRIPTION:Ultra Convenient Location! - This sensational size 2 bedroom garden apartment set in a private location is immaculately presented throughout.

Features high soaring ceilings, quality floor coverings throughout, large kitchen with natural gas cooking and plenty of bench top and cupboard space.

Large open plan living with extra size bedrooms.

Off street car parking available with use of Double- Lock up garage.

Excellent location only a few minutes walk to Thornleigh railway, shops and school.

Electricity / gas / water usage included in rent.

GREAT VALUE FOR MONEY and A MUST TO INSPECT!

PLEASE NOTE: Do NOT enter the premises without being accompanied by a Real Estate Agent.

Disclaimer: "We have been furnished with the above information, however, Homefront give no guarantees, undertakings or warnings concerning the accuracy, completeness or up-to-date nature of the information provided.  All interested parties are responsible for their own independent enquiries in order to determine whether or not this information is in fact accurate.  The property is subject to prior lease or withdrawal."


LAST-MODIFIED:20190228T155307
DTSTAMP:20190228T155307
DTSTART;TZID=Australia/:20190302T125500
LOCATION:15 Wells St Thornleigh NSW 2120
URL:http://www.homefront.com.au/5365972
SEQUENCE:0
END:VEVENT
END:VCALENDAR
