BEGIN:VCALENDAR
VERSION:2.0
PRODID:-//Apple Inc.//iCal 5.0.2//EN
CALSCALE:GREGORIAN
BEGIN:VTIMEZONE
TZID:Australia/
BEGIN:STANDARD
TZOFFSETFROM:+1100
RRULE:FREQ=YEARLY;BYMONTH=4;BYDAY=1SU
DTSTART:20080406T030000
TZNAME:
TZOFFSETTO:+
END:STANDARD
BEGIN:DAYLIGHT
TZOFFSETFROM:+
RRULE:FREQ=YEARLY;BYMONTH=10;BYDAY=1SU
DTSTART:20081005T020000
TZNAME:AEDT
TZOFFSETTO:+1100
END:DAYLIGHT
END:VTIMEZONE
BEGIN:VEVENT
CREATED:20260422T142735
UID:Property21612980Inspection57431250
DTEND;TZID=Australia/:20260422T151000
TRANSP:OPAQUE
SUMMARY:Open For Inspection: 44 Harris Street, JAMISONTOWN
DESCRIPTION:Spacious Family Living in Prime Jamisontown Location with Upcoming Enhancements - Positioned in a sought-after pocket of Jamisontown, this well-presented home offers spacious interiors, a large backyard, and easy access to the M4, schools, and shops-an opportunity you won't want to miss.

The home features three generous bedrooms, two with mirrored built-in robes. A light-filled lounge room sits at the front of the home and includes split system air conditioning, while beautiful timber floorboards run throughout for easy care. The open plan lounge and dining area provides versatile living options.

The large separate kitchen is equipped with electric cooking, a stainless steel rangehood, and ample bench and cupboard space, and it overlooks the front yard to create a bright cooking environment. The bathroom includes a separate bath, shower, and vanity, along with a separate toilet for added convenience. An internal laundry with handy side access adds to the functionality of the home.

Outside, the fully fenced yard offers privacy and security. The property is ideally located close to bus stops, local schools, shops, Panthers, Mulgoa Road, and the M4 motorway, and is within walking distance to the upcoming vibrant restaurants and caf&eacute;s by the river precinct.

There will be a granny flat constructed on the property starting in the next few weeks.
LAST-MODIFIED:20260422T142735
DTSTAMP:20260422T142735
DTSTART;TZID=Australia/:20260422T150000
LOCATION:44 Harris Street JAMISONTOWN NSW 2750
URL:http://www.propertycentralpenrith.com.au/21612980
SEQUENCE:0
END:VEVENT
END:VCALENDAR
