BEGIN:VCALENDAR
VERSION:2.0
PRODID:-//Apple Inc.//iCal 5.0.2//EN
CALSCALE:GREGORIAN
BEGIN:VTIMEZONE
TZID:Australia/
BEGIN:STANDARD
TZOFFSETFROM:+1100
RRULE:FREQ=YEARLY;BYMONTH=4;BYDAY=1SU
DTSTART:20080406T030000
TZNAME:
TZOFFSETTO:+
END:STANDARD
BEGIN:DAYLIGHT
TZOFFSETFROM:+
RRULE:FREQ=YEARLY;BYMONTH=10;BYDAY=1SU
DTSTART:20081005T020000
TZNAME:AEDT
TZOFFSETTO:+1100
END:DAYLIGHT
END:VTIMEZONE
BEGIN:VEVENT
CREATED:20260422T142835
UID:Property21374337Inspection57431253
DTEND;TZID=Australia/:20260422T161000
TRANSP:OPAQUE
SUMMARY:Open For Inspection: 22 Hope Street, PENRITH
DESCRIPTION:Spacious 4-Bedroom Family Home in Prime Penrith Location - Ideally located in Penrith, this well-presented four-bedroom home offers comfortable and practical family living. The property features an updated kitchen, a spacious lounge and dining area, plus a separate family room that provides extra space for relaxing or entertaining.

The home includes an original bathroom with both a separate shower and bathtub, a lock-up garage along with an additional carport for extra parking, and a generous fully fenced rear yard-perfect for children or pets, Conveniently positioned close to local schools, shops, and transport, this home presents a great opportunity for families seeking space, comfort, and convenience.
LAST-MODIFIED:20260422T142835
DTSTAMP:20260422T142835
DTSTART;TZID=Australia/:20260422T160000
LOCATION:22 Hope Street PENRITH NSW 2750
URL:http://www.propertycentralpenrith.com.au/21374337
SEQUENCE:0
END:VEVENT
END:VCALENDAR
