BEGIN:VCALENDAR
VERSION:2.0
PRODID:-//Apple Inc.//iCal 5.0.2//EN
CALSCALE:GREGORIAN
BEGIN:VTIMEZONE
TZID:Australia/
BEGIN:STANDARD
TZOFFSETFROM:+1100
RRULE:FREQ=YEARLY;BYMONTH=4;BYDAY=1SU
DTSTART:20080406T030000
TZNAME:
TZOFFSETTO:+
END:STANDARD
BEGIN:DAYLIGHT
TZOFFSETFROM:+
RRULE:FREQ=YEARLY;BYMONTH=10;BYDAY=1SU
DTSTART:20081005T020000
TZNAME:AEDT
TZOFFSETTO:+1100
END:DAYLIGHT
END:VTIMEZONE
BEGIN:VEVENT
CREATED:20260422T142735
UID:Property21375882Inspection57431263
DTEND;TZID=Australia/:20260422T164000
TRANSP:OPAQUE
SUMMARY:Open For Inspection: 16A Allard Street, PENRITH
DESCRIPTION:Modern Two-Bedroom Home in Convenient Penrith Location - This modern and inviting home is conveniently located just minutes from Penrith CBD, shopping centres, public transport, and all major amenities. Offering a practical layout and contemporary finishes, it's a comfortable and convenient place to call home.

Inside, there are two spacious bedrooms with mirrored built-in wardrobes, complemented by an open-plan living and kitchen area perfect for everyday living. The kitchen features electric cooking, a dishwasher, and Caesarstone benchtops, flowing seamlessly into the light-filled living space. The bathroom and laundry area is spacious with high ceilings, enhancing the sense of roominess throughout.

Additional features include reverse cycle air conditioning for year-round comfort, downlighting throughout, and a secure, fully fenced backyard providing privacy and low-maintenance outdoor space. Pets are considered upon application.

Don't miss this great opportunity-register your details today to arrange an inspection.
LAST-MODIFIED:20260422T142735
DTSTAMP:20260422T142735
DTSTART;TZID=Australia/:20260422T163000
LOCATION:16A Allard Street PENRITH NSW 2750
URL:http://www.propertycentralpenrith.com.au/21375882
SEQUENCE:0
END:VEVENT
END:VCALENDAR
