BEGIN:VCALENDAR
VERSION:2.0
PRODID:-//Apple Inc.//iCal 5.0.2//EN
CALSCALE:GREGORIAN
BEGIN:VTIMEZONE
TZID:Australia/
BEGIN:STANDARD
TZOFFSETFROM:+1100
RRULE:FREQ=YEARLY;BYMONTH=4;BYDAY=1SU
DTSTART:20080406T030000
TZNAME:
TZOFFSETTO:+
END:STANDARD
BEGIN:DAYLIGHT
TZOFFSETFROM:+
RRULE:FREQ=YEARLY;BYMONTH=10;BYDAY=1SU
DTSTART:20081005T020000
TZNAME:AEDT
TZOFFSETTO:+1100
END:DAYLIGHT
END:VTIMEZONE
BEGIN:VEVENT
CREATED:20260422T142540
UID:Property21373556Inspection57431265
DTEND;TZID=Australia/:20260422T171000
TRANSP:OPAQUE
SUMMARY:Open For Inspection: 99 Joseph Street, KINGSWOOD
DESCRIPTION:Neatly Presented 3 Bedroom Family Home - This neatly presented 3 bedroom family home offers a great start for any family. 3 bedrooms all with built in robes and ceiling fans to 2 bedrooms, lounge room with polished floorboards and air conditioning, separate dining room with polished floorboards overlooking the family kitchen with electric cooking. Family bathroom offers a separate bath and shower, study area located near the 3rd bedroom. Enjoy quality time with your family in your spacious sunroom located to the rear of the property leading onto an under covered entertaining area. Fully fenced yard featuring a single lock up garage and single carport and garden shed. Closely located to schools, shops and public transport.
LAST-MODIFIED:20260422T142540
DTSTAMP:20260422T142540
DTSTART;TZID=Australia/:20260422T170000
LOCATION:99 Joseph Street KINGSWOOD NSW 2747
URL:http://www.propertycentralpenrith.com.au/21373556
SEQUENCE:0
END:VEVENT
END:VCALENDAR
