BEGIN:VCALENDAR
VERSION:2.0
PRODID:-//Apple Inc.//iCal 5.0.2//EN
CALSCALE:GREGORIAN
BEGIN:VTIMEZONE
TZID:Australia/
BEGIN:STANDARD
TZOFFSETFROM:+1100
RRULE:FREQ=YEARLY;BYMONTH=4;BYDAY=1SU
DTSTART:20080406T030000
TZNAME:
TZOFFSETTO:+
END:STANDARD
BEGIN:DAYLIGHT
TZOFFSETFROM:+
RRULE:FREQ=YEARLY;BYMONTH=10;BYDAY=1SU
DTSTART:20081005T020000
TZNAME:AEDT
TZOFFSETTO:+1100
END:DAYLIGHT
END:VTIMEZONE
BEGIN:VEVENT
CREATED:20260422T142735
UID:Property21605038Inspection57431266
DTEND;TZID=Australia/:20260423T144000
TRANSP:OPAQUE
SUMMARY:Open For Inspection: 1/132 Brisbane Street, OXLEY PARK
DESCRIPTION:Comfortable & Convenient 3-Bedroom Home - This well-presented 3-bedroom, 2-bathroom home offers easy living in a convenient area close to everyday amenities. Perfect for families or professionals, the property features three generous bedrooms, including a master with ensuite, plus a modern main bathroom for added comfort,  With Freshly painted walls and Brand new Carpet

Enjoy a light-filled living and dining space, a functional kitchen with ample storage, and a low-maintenance yard ideal for relaxing or entertaining. The home also includes a secure single car space for your convenience.

Positioned close to schools, shops, parks, and public transport, this home combines comfort, practicality, and convenience, ready for you to move in and enjoy.
LAST-MODIFIED:20260422T142735
DTSTAMP:20260422T142735
DTSTART;TZID=Australia/:20260423T143000
LOCATION:1/132 Brisbane Street OXLEY PARK NSW 2760
URL:http://www.propertycentralpenrith.com.au/21605038
SEQUENCE:0
END:VEVENT
END:VCALENDAR
