BEGIN:VCALENDAR
VERSION:2.0
PRODID:-//Apple Inc.//iCal 5.0.2//EN
CALSCALE:GREGORIAN
BEGIN:VTIMEZONE
TZID:Australia/
BEGIN:STANDARD
TZOFFSETFROM:+1100
RRULE:FREQ=YEARLY;BYMONTH=4;BYDAY=1SU
DTSTART:20080406T030000
TZNAME:
TZOFFSETTO:+
END:STANDARD
BEGIN:DAYLIGHT
TZOFFSETFROM:+
RRULE:FREQ=YEARLY;BYMONTH=10;BYDAY=1SU
DTSTART:20081005T020000
TZNAME:AEDT
TZOFFSETTO:+1100
END:DAYLIGHT
END:VTIMEZONE
BEGIN:VEVENT
CREATED:20260422T142619
UID:Property21611465Inspection57431267
DTEND;TZID=Australia/:20260423T151000
TRANSP:OPAQUE
SUMMARY:Open For Inspection: 1/10 Braddon Street, OXLEY PARK
DESCRIPTION:SPARKLING TOWNHOUSE - Sparkling townhouse featuring two double bedrooms with built ins, open study area near bedrooms, main bedroom with en suite, family bathroom with separate bath and shower, internal laundry with third toilet downstairs, kitchen with stainless appliances, open plan kitchen, living and lounge room with gas cooking and easy to clean tiles, reverse cycle air conditioning, gas heating outlet in lounge room, lock up garage and outdoor space with clothes line. Close to schools, transport and shopping.


Disclaimer: We have been furnished with the above information, however, Property Central gives no guarantees or undertakings concerning the accuracy, completeness or up-to-date nature of the information provided. All interested parties are responsible for their own independent enquiries in order to determine whether or not this information is in fact accurate.
LAST-MODIFIED:20260422T142619
DTSTAMP:20260422T142619
DTSTART;TZID=Australia/:20260423T150000
LOCATION:1/10 Braddon Street OXLEY PARK NSW 2760
URL:http://www.propertycentralpenrith.com.au/21611465
SEQUENCE:0
END:VEVENT
END:VCALENDAR
