BEGIN:VCALENDAR
VERSION:2.0
PRODID:-//Apple Inc.//iCal 5.0.2//EN
CALSCALE:GREGORIAN
BEGIN:VTIMEZONE
TZID:Australia/
BEGIN:STANDARD
TZOFFSETFROM:+1100
RRULE:FREQ=YEARLY;BYMONTH=4;BYDAY=1SU
DTSTART:20080406T030000
TZNAME:
TZOFFSETTO:+
END:STANDARD
BEGIN:DAYLIGHT
TZOFFSETFROM:+
RRULE:FREQ=YEARLY;BYMONTH=10;BYDAY=1SU
DTSTART:20081005T020000
TZNAME:AEDT
TZOFFSETTO:+1100
END:DAYLIGHT
END:VTIMEZONE
BEGIN:VEVENT
CREATED:20260422T142834
UID:Property21376066Inspection57431276
DTEND;TZID=Australia/:20260423T154000
TRANSP:OPAQUE
SUMMARY:Open For Inspection: 6/168 Glossop Street, ST MARYS
DESCRIPTION:WELL PRESENTED MODERN FOUR BEDROOM TOWNHOUSE WITH YARD - This modern four bedroom townhouse is situated at the rear of the quiet complex. Close to all amenities including schools, parks, transport and shopping

- Open plan living/kitchen and dining
- Modern kitchen with gas cooking, dishwasher and stone benchtops
- Four spacious bedrooms with built-in robes
- Private ensuite of master bedroom
- Family bathroom with separate shower and bath
- Ducted air conditioning throughout
- Large courtyard at the back of complex
- Automatic garage with second carspace that drives through


Disclaimer: We have been furnished with the above information, however, Property Central gives no guarantees or undertakings concerning the accuracy, completeness or up-to-date nature of the information provided. All interested parties are responsible for their own independent enquiries in order to determine whether or not this information is in fact accurate.
LAST-MODIFIED:20260422T142834
DTSTAMP:20260422T142834
DTSTART;TZID=Australia/:20260423T153000
LOCATION:6/168 Glossop Street ST MARYS NSW 2760
URL:http://www.propertycentralpenrith.com.au/21376066
SEQUENCE:0
END:VEVENT
END:VCALENDAR
