BEGIN:VCALENDAR
VERSION:2.0
PRODID:-//Apple Inc.//iCal 5.0.2//EN
CALSCALE:GREGORIAN
BEGIN:VTIMEZONE
TZID:Australia/
BEGIN:STANDARD
TZOFFSETFROM:+1100
RRULE:FREQ=YEARLY;BYMONTH=4;BYDAY=1SU
DTSTART:20080406T030000
TZNAME:
TZOFFSETTO:+
END:STANDARD
BEGIN:DAYLIGHT
TZOFFSETFROM:+
RRULE:FREQ=YEARLY;BYMONTH=10;BYDAY=1SU
DTSTART:20081005T020000
TZNAME:AEDT
TZOFFSETTO:+1100
END:DAYLIGHT
END:VTIMEZONE
BEGIN:VEVENT
CREATED:20260422T142640
UID:Property21374039Inspection57431280
DTEND;TZID=Australia/:20260423T171000
TRANSP:OPAQUE
SUMMARY:Open For Inspection: 6A Marsh Place, CRANEBROOK
DESCRIPTION:Modern Two Bedroom Granny Flat With Spacious Yard & Entertainment Area! - This two bedroom granny flat commands its own identity with open plan living, separate entry, tiled throughout, private grassed yard, undercover pergola, modern bathroom, modern kitchen, in cupboard laundry, large split system air conditioner and mirrored built ins in both rooms and its own driveway. A truly magnificent property; something that is different but welcomed for the Cranebrook area. Conveniently located only minutes from local shops, schools, transport and easy access to Penrith.
LAST-MODIFIED:20260422T142640
DTSTAMP:20260422T142640
DTSTART;TZID=Australia/:20260423T170000
LOCATION:6A Marsh Place CRANEBROOK NSW 2749
URL:http://www.propertycentralpenrith.com.au/21374039
SEQUENCE:0
END:VEVENT
END:VCALENDAR
