BEGIN:VCALENDAR
VERSION:2.0
PRODID:-//Apple Inc.//iCal 5.0.2//EN
CALSCALE:GREGORIAN
BEGIN:VTIMEZONE
TZID:Australia/
BEGIN:STANDARD
TZOFFSETFROM:+1100
RRULE:FREQ=YEARLY;BYMONTH=4;BYDAY=1SU
DTSTART:20080406T030000
TZNAME:
TZOFFSETTO:+
END:STANDARD
BEGIN:DAYLIGHT
TZOFFSETFROM:+
RRULE:FREQ=YEARLY;BYMONTH=10;BYDAY=1SU
DTSTART:20081005T020000
TZNAME:AEDT
TZOFFSETTO:+1100
END:DAYLIGHT
END:VTIMEZONE
BEGIN:VEVENT
CREATED:20260422T142955
UID:Property21451867Inspection57431281
DTEND;TZID=Australia/:20260424T154000
TRANSP:OPAQUE
SUMMARY:Open For Inspection: C7/48-56 Derby Street, KINGSWOOD
DESCRIPTION:Modern 2-Bedroom 2-Bathroom Apartment - This stylish and modern 2-bedroom apartment offers comfortable and low-maintenance living in a highly desirable location, close to all amenities. The well-designed layout features a master bedroom with its own ensuite, along with a second bathroom for added convenience.

Step outside to a spacious private courtyard-perfect for relaxing or entertaining guests. The property also includes a secure underground parking space, providing both peace of mind and everyday convenience.

Enjoy year-round comfort with split-system air conditioning, and take advantage of modern appliances including a dishwasher and dryer. With a sleek kitchen and easy indoor-outdoor flow, this apartment is ideal for tenants seeking both style and practicality, all within easy reach of shops, transport, and local services.
LAST-MODIFIED:20260422T142955
DTSTAMP:20260422T142955
DTSTART;TZID=Australia/:20260424T153000
LOCATION:C7/48-56 Derby Street KINGSWOOD NSW 2747
URL:http://www.propertycentralpenrith.com.au/21451867
SEQUENCE:0
END:VEVENT
END:VCALENDAR
