BEGIN:VCALENDAR
VERSION:2.0
PRODID:-//Apple Inc.//iCal 5.0.2//EN
CALSCALE:GREGORIAN
BEGIN:VTIMEZONE
TZID:Australia/
BEGIN:STANDARD
TZOFFSETFROM:+1100
RRULE:FREQ=YEARLY;BYMONTH=4;BYDAY=1SU
DTSTART:20080406T030000
TZNAME:
TZOFFSETTO:+
END:STANDARD
BEGIN:DAYLIGHT
TZOFFSETFROM:+
RRULE:FREQ=YEARLY;BYMONTH=10;BYDAY=1SU
DTSTART:20081005T020000
TZNAME:AEDT
TZOFFSETTO:+1100
END:DAYLIGHT
END:VTIMEZONE
BEGIN:VEVENT
CREATED:20260422T004530
UID:Property21619424Inspection57431288
DTEND;TZID=Australia/:20260423T173000
TRANSP:OPAQUE
SUMMARY:Open For Inspection: 40 Cliffbrook Crescent, LEONAY
DESCRIPTION:Enter the Leonay market - Nestled in the highly sought after suburb of Leonay and coming to the market for the first time, this much loved and well maintained family home offers the perfect opportunity to enter the market. Resting on the high side of the street on a large approx. 645 sqm block it presents an ideal retreat for families seeking a serene lifestyle in a picturesque setting. Boasting 3 spacious bedrooms, 2 with built in robes and a large family bathroom with separate toilet. With side access, a double lock up garage with 2nd entertaining area and a fully fenced yard, this property offers plenty of outdoor space for children to play and pets to roam. Located just minutes from shops, schools, parks, Leonay Golf Club & the M4 Motorway. Don't miss this incredible opportunity to own a piece of paradise in Leonay. Whether you're looking for a family home, investment property, renovation or knockdown rebuild, contact us today for a copy of the contract.

* Land size approx. 645 sqm
* Well maintained kitchen & bathroom, air conditioning, built in robes, ceiling fans
* Fully fenced yard, side access to a double lock up garage, 2 x outdoor entertaining areas
* Located just minutes from Nepean River, shops, schools, Leonay Golf Club & M4 motorway




Disclaimer: We have been furnished with the above information, however, Property Central gives no guarantees or undertakings concerning the accuracy, completeness or up-to-date nature of the information provided. All interested parties are responsible for their own independent enquiries in order to determine whether or not this information is in fact accurate.
LAST-MODIFIED:20260422T004530
DTSTAMP:20260422T004530
DTSTART;TZID=Australia/:20260423T170000
LOCATION:40 Cliffbrook Crescent LEONAY NSW 2750
URL:http://www.propertycentralpenrith.com.au/21619424
SEQUENCE:0
END:VEVENT
END:VCALENDAR
