BEGIN:VCALENDAR
VERSION:2.0
PRODID:-//Apple Inc.//iCal 5.0.2//EN
CALSCALE:GREGORIAN
BEGIN:VTIMEZONE
TZID:Australia/
BEGIN:STANDARD
TZOFFSETFROM:+1100
RRULE:FREQ=YEARLY;BYMONTH=4;BYDAY=1SU
DTSTART:20080406T030000
TZNAME:
TZOFFSETTO:+
END:STANDARD
BEGIN:DAYLIGHT
TZOFFSETFROM:+
RRULE:FREQ=YEARLY;BYMONTH=10;BYDAY=1SU
DTSTART:20081005T020000
TZNAME:AEDT
TZOFFSETTO:+1100
END:DAYLIGHT
END:VTIMEZONE
BEGIN:VEVENT
CREATED:20260422T120448
UID:Property21608475Inspection57429107
DTEND;TZID=Australia/:20260423T114500
TRANSP:OPAQUE
SUMMARY:Open For Inspection: 14 Phillip Street, Emu Park
DESCRIPTION:I need You and You Need Me! - Are You Looking for a property with personality and potential? This partly renovated 2-bedroom home offers a fantastic opportunity to complete the vision and make it truly your own. With a modernised interior already underway, the hard work has begun  now it's ready for someone to add the finishing touches and bring it to life.

Property Features:

• Standard kitchen with open servery flowing to the dining and lounge area
• Two well-sized bedrooms, including one with built-in storage
• Ultra-modern bathroom, newly renovated with floor-to-ceiling tiles and generous space
• Double tandem carport with high 2.7m clearance
• Easy access to a spacious, shaded rear yard

Set on a 470m² block, The property is fully fenced and features established gardens with mature trees and charming brick-edged paths, offering a peaceful setting with plenty of potential to enhance the private and character-filled outdoor space.

Located close to the Emu Park Bowls Club and just an easy stroll to the beach Access Emu Park CBD and Bus Stop This property delivers relaxed coastal living in a highly convenient location.
Inspection a Must Contact Tanya Edwards at Emu Park Real Estate today Mobile:0400304240
LAST-MODIFIED:20260422T120448
DTSTAMP:20260422T120448
DTSTART;TZID=Australia/:20260423T111500
LOCATION:14 Phillip Street Emu Park QLD 4710
URL:http://www.emuparkrealestate.com.au/21608475
SEQUENCE:0
END:VEVENT
END:VCALENDAR
