BEGIN:VCALENDAR
VERSION:2.0
PRODID:-//Apple Inc.//iCal 5.0.2//EN
CALSCALE:GREGORIAN
BEGIN:VTIMEZONE
TZID:Australia/
BEGIN:STANDARD
TZOFFSETFROM:+1100
RRULE:FREQ=YEARLY;BYMONTH=4;BYDAY=1SU
DTSTART:20080406T030000
TZNAME:
TZOFFSETTO:+
END:STANDARD
BEGIN:DAYLIGHT
TZOFFSETFROM:+
RRULE:FREQ=YEARLY;BYMONTH=10;BYDAY=1SU
DTSTART:20081005T020000
TZNAME:AEDT
TZOFFSETTO:+1100
END:DAYLIGHT
END:VTIMEZONE
BEGIN:VEVENT
CREATED:20260422T121044
UID:Property21615333Inspection57430491
DTEND;TZID=Australia/:20260430T152000
TRANSP:OPAQUE
SUMMARY:Open For Inspection: 108 Archer Street, Emu Park
DESCRIPTION:Relaxed Beach Lifestyle - A relaxed beachside retreat designed for easy coastal living.

This short term arrangement would be great option while you are building your dream home or looking to purchase or you just want to long relaxing holiday.

Perfectly positioned just 300 metres from the beach, you can enjoy a short stroll to the shoreline, passing the friendly local Bowls Club along the way.  Emu Park town centre is only 600 metres away, offering cafés, shops, and local conveniences. For boating and fishing lovers, Fisherman's Beach and the boat ramp are close by, making it easy to get out on the water.

Elevated to capture the cool sea breezes, this charming coastal home offers a peaceful setting where you can unwind after a day of beach adventures.

Property Highlights

Two spacious bedrooms, with air-conditioning in the main bedroom

Open-plan living and dining area perfect for relaxing together

Well-equipped kitchen with dishwasher and electric stove

Separate laundry for added convenience

Ceiling fans, security screens and blinds throughout

Front and rear patios - ideal for morning coffee or evening drinks

Solar hot water system

Outdoor Features

Fully fenced and secure yard - pet friendly

Plenty of space for a boat or caravan



LAST-MODIFIED:20260422T121044
DTSTAMP:20260422T121044
DTSTART;TZID=Australia/:20260430T150000
LOCATION:108 Archer Street Emu Park QLD 4710
URL:http://www.emuparkrealestate.com.au/21615333
SEQUENCE:0
END:VEVENT
END:VCALENDAR
