BEGIN:VCALENDAR
VERSION:2.0
PRODID:-//Apple Inc.//iCal 5.0.2//EN
CALSCALE:GREGORIAN
BEGIN:VTIMEZONE
TZID:Australia/
BEGIN:STANDARD
TZOFFSETFROM:+1100
RRULE:FREQ=YEARLY;BYMONTH=4;BYDAY=1SU
DTSTART:20080406T030000
TZNAME:
TZOFFSETTO:+
END:STANDARD
BEGIN:DAYLIGHT
TZOFFSETFROM:+
RRULE:FREQ=YEARLY;BYMONTH=10;BYDAY=1SU
DTSTART:20081005T020000
TZNAME:AEDT
TZOFFSETTO:+1100
END:DAYLIGHT
END:VTIMEZONE
BEGIN:VEVENT
CREATED:20260422T120447
UID:Property21611996Inspection57431515
DTEND;TZID=Australia/:20260423T170000
TRANSP:OPAQUE
SUMMARY:Open For Inspection: 356 Fenlon Avenue, FRENCHVILLE
DESCRIPTION:Forever Popular Frenchville - The desire to live in the Frenchville Avenue's has stood the test of time.

This lovely lowset home is loaded with appeal for the first home buyer, investor, downsizer and any potential buyers in between. It boasts : 

- 3 built in bedrooms all with split system aircon
- Open plan living with aircon
- Very tidy kitchen and bathroom
- Single Lock up remote garage
- Covered entertainment area
- Separate lockable laundry and additional storage room
- Terraced backyard with two lawn lockers
- Solar system
- Fully established low maintenance gardens and landscaping

Inspections on this lovely home will not disappoint.

LAST-MODIFIED:20260422T120447
DTSTAMP:20260422T120447
DTSTART;TZID=Australia/:20260423T163000
LOCATION:356 Fenlon Avenue FRENCHVILLE QLD 4701
URL:http://www.emuparkrealestate.com.au/21611996
SEQUENCE:0
END:VEVENT
END:VCALENDAR
