BEGIN:VCALENDAR
VERSION:2.0
PRODID:-//Apple Inc.//iCal 5.0.2//EN
CALSCALE:GREGORIAN
BEGIN:VTIMEZONE
TZID:Australia/
BEGIN:STANDARD
TZOFFSETFROM:+1100
RRULE:FREQ=YEARLY;BYMONTH=4;BYDAY=1SU
DTSTART:20080406T030000
TZNAME:
TZOFFSETTO:+
END:STANDARD
BEGIN:DAYLIGHT
TZOFFSETFROM:+
RRULE:FREQ=YEARLY;BYMONTH=10;BYDAY=1SU
DTSTART:20081005T020000
TZNAME:AEDT
TZOFFSETTO:+1100
END:DAYLIGHT
END:VTIMEZONE
BEGIN:VEVENT
CREATED:20260425T043223
UID:Property21617569Inspection57434888
DTEND;TZID=Australia/:20260426T110000
TRANSP:OPAQUE
SUMMARY:Open For Inspection: 4 Taldora Place, Emu Park
DESCRIPTION:Coastal Living in Sought-After Tanby Point Estate! - Tanby Point Estate is one of Emu Park's most sought-after addresses, offering an exclusive coastal lifestyle in a peaceful cul-de-sac surrounded by quality homes. Perfectly positioned just a short stroll from 2 beautiful Beaches, this stunning property delivers the ideal blend of space, comfort, and relaxed seaside living for the whole family.

Designed for comfortable, easy living, the home offers a practical and functional floorplan with a seamless connection between the main living area and outdoor space. It provides a relaxed setting suited to both everyday family life and casual get-togethers.

Step outside to a covered patio that overlooks the in-ground pool a great spot to unwind or enjoy a weekend BBQ. The property also features double gated side access to an 8m x 9m powered shed, offering useful space for storage, hobbies, or a workshop setup.

Take the Virtual Tour and Watch the Video to see what is on Offer.

Property Features:

* Spacious, family-friendly floorplan 
* Air-conditioning to master bedroom and main living area
* Light-filled open plan living flowing seamlessly to outdoor patio
* Separate media room for added versatility
* Stylish kitchen Spacious and Practical
* Generous master suite with walk-in robe and ensuite
* 3  good sized bedrooms with Built in Robes
* Covered rear patio overlooking the 6m x 3m pool - perfect for entertaining
* Double gated side access to an 8m x 9m powered shed

Enjoy the convenience of coastal living with 2 Beaches just a 4-minute walk away, while Emu Park is only a 5-minute drive and Yeppoon just 15 minutes from your doorstep.

This is a rare opportunity to secure a quality home in an exclusive location - the complete family package in a premium coastal setting. Contact Tanya Edwards Mobile:0400304240 to view by Appointment.
LAST-MODIFIED:20260425T043223
DTSTAMP:20260425T043223
DTSTART;TZID=Australia/:20260426T103000
LOCATION:4 Taldora Place Emu Park QLD 4710
URL:http://www.emuparkrealestate.com.au/21617569
SEQUENCE:0
END:VEVENT
END:VCALENDAR
