BEGIN:VCALENDAR
VERSION:2.0
PRODID:-//Apple Inc.//iCal 5.0.2//EN
CALSCALE:GREGORIAN
BEGIN:VTIMEZONE
TZID:Australia/
BEGIN:STANDARD
TZOFFSETFROM:+1100
RRULE:FREQ=YEARLY;BYMONTH=4;BYDAY=1SU
DTSTART:20080406T030000
TZNAME:
TZOFFSETTO:+
END:STANDARD
BEGIN:DAYLIGHT
TZOFFSETFROM:+
RRULE:FREQ=YEARLY;BYMONTH=10;BYDAY=1SU
DTSTART:20081005T020000
TZNAME:AEDT
TZOFFSETTO:+1100
END:DAYLIGHT
END:VTIMEZONE
BEGIN:VEVENT
CREATED:20260424T114509
UID:Property21620405Inspection57434869
DTEND;TZID=Australia/:19700101T000000
TRANSP:OPAQUE
SUMMARY:Open For Inspection: 30 Bellevue Street, TEMORA
DESCRIPTION:MORE THAN MEETS THE EYE.... - Nestled in a quiet street and enjoying a peaceful, semi-rural outlook from the backyard, this quaint weatherboard home offers comfort, space, and lifestyle appeal on a generous quarter-acre (1012sqm) corner allotment.
The home features three spacious double bedrooms, including a master with built-in wardrobes. A formal living area at the front provides a cosy retreat, complemented by well-maintained carpets throughout.
At the heart of the home is a spacious open-plan kitchen and dining area, complete with original cabinetry, a new natural gas stove, and easy-care floating floors. A second living area at the rear adds versatility, featuring a reverse cycle unit and natural gas bayonet for year-round comfort.
The updated tiled bathroom includes a shower and vanity, while the tiled laundry offers the convenience of an additional toilet and separate storeroom.
Established lush lawns and manicured gardens create a serene setting, while the excellent entertaining skillion is perfect for hosting family and friends. Shedding includes a new extra high caravan carport skillion, accessible via the rear lane with automatic sliding gate. Single workshop/garage with an automatic roller door.
Additional highlights include:
6.8kW solar system for energy efficiency.
Electric rear gate for added security and convenience.
LAST-MODIFIED:20260424T114509
DTSTAMP:20260424T114509
DTSTART;TZID=Australia/:19700101T100000
LOCATION:30 Bellevue Street TEMORA NSW 2666
URL:http://www.millerandjames.com.au/21620405
SEQUENCE:0
END:VEVENT
END:VCALENDAR
