BEGIN:VCALENDAR
VERSION:2.0
PRODID:-//Apple Inc.//iCal 5.0.2//EN
CALSCALE:GREGORIAN
BEGIN:VTIMEZONE
TZID:Australia/
BEGIN:STANDARD
TZOFFSETFROM:+1100
RRULE:FREQ=YEARLY;BYMONTH=4;BYDAY=1SU
DTSTART:20080406T030000
TZNAME:
TZOFFSETTO:+
END:STANDARD
BEGIN:DAYLIGHT
TZOFFSETFROM:+
RRULE:FREQ=YEARLY;BYMONTH=10;BYDAY=1SU
DTSTART:20081005T020000
TZNAME:AEDT
TZOFFSETTO:+1100
END:DAYLIGHT
END:VTIMEZONE
BEGIN:VEVENT
CREATED:20260424T140957
UID:Property21620425Inspection57435084
DTEND;TZID=Australia/:20260502T100000
TRANSP:OPAQUE
SUMMARY:Open For Inspection: 150 Twynam Street, TEMORA
DESCRIPTION:FIRST HOME BUYERS & INVESTORS TAKE NOTE - Set on a generous 1,012sqm fully fenced allotment with convenient rear lane access, this vinyl-clad home with a durable Colourbond roof offers space, versatility, and plenty of potential.

Inside, a wide central hallway creates a welcoming sense of scale, leading to two large double bedrooms, both complete with built-in robes. A third carpeted bedroom is positioned at the rear of the home, providing flexibility for families or guests.

The open-plan living and eat-in kitchen area forms the heart of the home, featuring a mix of carpet and tiled flooring. The original kitchen is well-equipped with a pantry, LPG gas stove, and electric oven, offering both functionality and scope to update if desired.

Comfort is assured year-round with a lounge room that includes a woodfire heater, ceiling fan, reverse cycle unit, and ducted evaporative air conditioning servicing the home. The original family bathroom includes both a bath and shower, while the toilet is located in the rear pergola/sunroom area, which also incorporates a versatile fourth bedroom, office, or storeroom.

Outdoors, the property offers established gardens and lawn areas, a double garage/workshop accessible via the rear lane, a garden shed set on a slab, and fantastic steel bird aviaries. Two rainwater tanks add to the property's practicality and sustainability.

Offering solid bones and a flexible layout, this property presents an excellent opportunity for buyers seeking space, functionality, and room to make it their own.
LAST-MODIFIED:20260424T140957
DTSTAMP:20260424T140957
DTSTART;TZID=Australia/:20260502T093000
LOCATION:150 Twynam Street TEMORA NSW 2666
URL:http://www.millerandjames.com.au/21620425
SEQUENCE:0
END:VEVENT
END:VCALENDAR
