BEGIN:VCALENDAR
VERSION:2.0
PRODID:-//Apple Inc.//iCal 5.0.2//EN
CALSCALE:GREGORIAN
BEGIN:VTIMEZONE
TZID:Australia/
BEGIN:STANDARD
TZOFFSETFROM:+1100
RRULE:FREQ=YEARLY;BYMONTH=4;BYDAY=1SU
DTSTART:20080406T030000
TZNAME:
TZOFFSETTO:+
END:STANDARD
BEGIN:DAYLIGHT
TZOFFSETFROM:+
RRULE:FREQ=YEARLY;BYMONTH=10;BYDAY=1SU
DTSTART:20081005T020000
TZNAME:AEDT
TZOFFSETTO:+1100
END:DAYLIGHT
END:VTIMEZONE
BEGIN:VEVENT
CREATED:20260421T202220
UID:Property20061522Inspection57425982
DTEND;TZID=Australia/:20260423T160000
TRANSP:OPAQUE
SUMMARY:Open For Inspection: 33 Darwin Street, CARLINGFORD
DESCRIPTION:LOCATION, LOCATION, Walk to everything, Right in the Heart of Carlingford - TO APPLY ONLINE PLEASE USE THE BELOW LINK;
https://t-app.com.au/showcase

This excellent condition well maintained brick home offers polished timber floor boards, high ceilings, Air-conditioning, alarm and 4 Large bedrooms. 

Featuers include:
- 4 Large bedrooms 3 with built-ins, Ensuite in master 
- Large open plan lounge and dining room
- Spacious modern kitchen with granite benchtops & plenty of cupboard space, dishwasher included
- Polished floors throughout
- 2 Modern bathrooms tiled to the ceiling including Ensuite
- Ducted air-conditioning & alarm system
- Double lock up garage with carport
- Fantastic Private fully fenced yard
- Quiet location, short walk to Carlingford Court shopping centre, transport, & schools, Carlingford High and Epping west primary school catchment

This is a must to inspect!
LAST-MODIFIED:20260421T202220
DTSTAMP:20260421T202220
DTSTART;TZID=Australia/:20260423T154000
LOCATION:33 Darwin Street CARLINGFORD NSW 2118
URL:https://www.showcaserealty.com.au/20061522
SEQUENCE:0
END:VEVENT
END:VCALENDAR
