BEGIN:VCALENDAR
VERSION:2.0
PRODID:-//Apple Inc.//iCal 5.0.2//EN
CALSCALE:GREGORIAN
BEGIN:VTIMEZONE
TZID:Australia/
BEGIN:STANDARD
TZOFFSETFROM:+1100
RRULE:FREQ=YEARLY;BYMONTH=4;BYDAY=1SU
DTSTART:20080406T030000
TZNAME:
TZOFFSETTO:+
END:STANDARD
BEGIN:DAYLIGHT
TZOFFSETFROM:+
RRULE:FREQ=YEARLY;BYMONTH=10;BYDAY=1SU
DTSTART:20081005T020000
TZNAME:AEDT
TZOFFSETTO:+1100
END:DAYLIGHT
END:VTIMEZONE
BEGIN:VEVENT
CREATED:20260423T195647
UID:Property21613358Inspection57429655
DTEND;TZID=Australia/:20260423T173000
TRANSP:OPAQUE
SUMMARY:Open For Inspection: 93 Morna Street, NEWPORT
DESCRIPTION:3 BEDROOM HOME THAT PACKS A PUNCH WITH SOLAR & BATTERY BACK UP - Nestled within Newport's esteemed development on the Redcliffe peninsula, this exceptional three-bedroom residence epitomizes contemporary comfort blended seamlessly with tranquil living. The home's prime location in the heart of Newport offers the perfect union of modern convenience and peaceful surroundings, creating an enviable lifestyle for its residents.

From the moment you step inside, you're welcomed by an inviting ambiance, underscored by a stylish kitchen featuring gleaming stainless-steel appliances and a practical butler's pantry. This well-designed space caters effortlessly to those who enjoy cooking or entertaining, offering ample room and versatility for any occasion. The expansive open-plan layout unites the living, dining, and kitchen areas, fostering an atmosphere that is equally suited for relaxing evenings or lively social gatherings.

Stepping into the backyard, you'll discover a captivating Balinese-style gazebo nestled within a spacious oasis. This tranquil retreat is ideal for al fresco dining and memorable outdoor entertaining, providing a serene setting for unwinding alone or hosting friends and family in style.

Inside, the home comprises three generously proportioned bedrooms, highlighted by a luxurious master suite with double walk-in robes for abundant storage and enhanced privacy. Comfort is ensured year-round with ducted air-conditioning throughout, while the secure double garage offers convenience and peace of mind.

Additional features add both practicality and efficiency to daily life, including solar hot water, a gas stovetop, and an electric oven. Residents also benefit from a strategic location, with shops, schools, public transport, Redcliffe Dolphins Stadium, and Redcliffe Hospital all conveniently accessible within ten minutes.

Key features:
- 427m2 block
- Three bedrooms, 
- Main with double walk-in robe
- Ducted air-conditioning
- Open-plan living, dining
- Stylish Kitchen
- Butler's pantry 
- Outdoor entertaining
- Secure double garage
- Solar hot water
- Gas stovetop and electric oven
- 13.2kw Solar with 10kw inverter and 30kw battery backup


This remarkable residence truly offers the best of modern living in a coveted Newport address, making it an outstanding choice for those seeking comfort, style, and convenience. 

Exclusive agent 
Matthew Thomson 
0434 361 426 
Thomson the family name you can trust 

LAST-MODIFIED:20260423T195647
DTSTAMP:20260423T195647
DTSTART;TZID=Australia/:20260423T170000
LOCATION:93 Morna Street NEWPORT QLD 4020
URL:http://www.thomsonpropertygroup.com.au/21613358
SEQUENCE:0
END:VEVENT
END:VCALENDAR
