BEGIN:VCALENDAR
VERSION:2.0
PRODID:-//Apple Inc.//iCal 5.0.2//EN
CALSCALE:GREGORIAN
BEGIN:VTIMEZONE
TZID:Australia/
BEGIN:STANDARD
TZOFFSETFROM:+1100
RRULE:FREQ=YEARLY;BYMONTH=4;BYDAY=1SU
DTSTART:20080406T030000
TZNAME:
TZOFFSETTO:+
END:STANDARD
BEGIN:DAYLIGHT
TZOFFSETFROM:+
RRULE:FREQ=YEARLY;BYMONTH=10;BYDAY=1SU
DTSTART:20081005T020000
TZNAME:AEDT
TZOFFSETTO:+1100
END:DAYLIGHT
END:VTIMEZONE
BEGIN:VEVENT
CREATED:20260423T195811
UID:Property21609732Inspection57433493
DTEND;TZID=Australia/:20260424T174000
TRANSP:OPAQUE
SUMMARY:Open For Inspection: 16 Dent Crescent, BURPENGARY EAST
DESCRIPTION:LOOKING FOR A NEW FAMILY TO OWN IT - Nestled in the vibrant North Harbour development of Burpengary East, this modern four-bedroom home offers both comfort and style in a sought-after location. Residents enjoy easy access to local parks, schools, shopping centres, and major transport routes, making this area ideal for families and professionals alike.

Built in 2016, the property boasts spacious bedrooms each with built-in robes, an inviting open-plan living area, and a separate lounge for versatile entertaining. The designer kitchen features sleek stone benchtops, perfect for culinary enthusiasts. Stay comfortable year-round with air conditioning and ceiling fans throughout. Step outside to a generous entertainment area and a sizable backyard, providing ample space for gatherings and relaxation. Additional highlights include a double garage for secure parking and convenience.

 
Features include:
* 4 Good sized bedrooms with built in robes
* Open plan living
* Separate Lounge room
* Modern Designer Kitchen
* Stone bench tops
* Air conditioning
* Ceiling fans
* Entertainment area
* Good sized backyard
* Double Garage
* Built 2016 

This is a fantastic opportunity to secure a contemporary family home in a thriving, well-connected community. Don't miss your chance-contact us today to arrange a viewing!

Exclusive Agent 
Matthew Thomson 
0434 361 426
Thomson the family name you can trust

LAST-MODIFIED:20260423T195811
DTSTAMP:20260423T195811
DTSTART;TZID=Australia/:20260424T171000
LOCATION:16 Dent Crescent BURPENGARY EAST QLD 4505
URL:http://www.thomsonpropertygroup.com.au/21609732
SEQUENCE:0
END:VEVENT
END:VCALENDAR
