BEGIN:VCALENDAR
VERSION:2.0
PRODID:-//Apple Inc.//iCal 5.0.2//EN
CALSCALE:GREGORIAN
BEGIN:VTIMEZONE
TZID:Australia/
BEGIN:STANDARD
TZOFFSETFROM:+1100
RRULE:FREQ=YEARLY;BYMONTH=4;BYDAY=1SU
DTSTART:20080406T030000
TZNAME:
TZOFFSETTO:+
END:STANDARD
BEGIN:DAYLIGHT
TZOFFSETFROM:+
RRULE:FREQ=YEARLY;BYMONTH=10;BYDAY=1SU
DTSTART:20081005T020000
TZNAME:AEDT
TZOFFSETTO:+1100
END:DAYLIGHT
END:VTIMEZONE
BEGIN:VEVENT
CREATED:20260423T195647
UID:Property21613344Inspection57433494
DTEND;TZID=Australia/:20260424T163000
TRANSP:OPAQUE
SUMMARY:Open For Inspection: 28 Spearmint Street, GRIFFIN
DESCRIPTION:4 BEDROOM HOME IN IDEAL LOCATION - Presenting a contemporary 4-bedroom home for sale in Griffin, thoughtfully designed to deliver both comfort and style. The master suite features a spacious walk-in robe and a private ensuite, while each additional bedroom offers built-in wardrobes for ample storage. Enjoy year-round comfort with air conditioning and ceiling fans throughout the home. 

With two modern bathrooms, this property is perfect for families seeking convenience and functionality. The gourmet kitchen stands out with electric cooking, a dishwasher, and a generous island bench that doubles as a breakfast bar-ideal for casual meals or entertaining guests. A remote lock-up garage adds security and ease, while contemporary fixtures throughout create an impressive, stylish finish.

The open-plan layout seamlessly blends living and entertaining spaces, allowing you to host gatherings with ease. Built in 2013, this home is situated in Griffin, providing residents with access to premium shopping, dining, public transport, and quality education options. Don't miss the opportunity to make this intelligently designed residence your new home.
 


* Master with walk in robe & ensuite.
* Built in wardrobes to all other bedrooms
* Air Conditioning
* Ceiling fans throughout
* 2 Bathrooms
* Modern gourmet kitchen with electric cooking & dishwasher, along with a large Island bench/breakfast bar
* Remote lock-up garage
* Built in 2013 

Situated in Griffin, this location offers convenient access to exceptional shopping and dining experiences, reliable public transportation, and quality educational facilities. With everything you need close by, Griffin truly provides a vibrant and accessible environment for residents and visitors alike.

Exclusive agency 
Matthew Thomson 
0434 361 426 

Thomson the family name you can trust 


LAST-MODIFIED:20260423T195647
DTSTAMP:20260423T195647
DTSTART;TZID=Australia/:20260424T160000
LOCATION:28 Spearmint Street GRIFFIN QLD 4503
URL:http://www.thomsonpropertygroup.com.au/21613344
SEQUENCE:0
END:VEVENT
END:VCALENDAR
