BEGIN:VCALENDAR
VERSION:2.0
PRODID:-//Apple Inc.//iCal 5.0.2//EN
CALSCALE:GREGORIAN
BEGIN:VTIMEZONE
TZID:Australia/
BEGIN:STANDARD
TZOFFSETFROM:+1100
RRULE:FREQ=YEARLY;BYMONTH=4;BYDAY=1SU
DTSTART:20080406T030000
TZNAME:
TZOFFSETTO:+
END:STANDARD
BEGIN:DAYLIGHT
TZOFFSETFROM:+
RRULE:FREQ=YEARLY;BYMONTH=10;BYDAY=1SU
DTSTART:20081005T020000
TZNAME:AEDT
TZOFFSETTO:+1100
END:DAYLIGHT
END:VTIMEZONE
BEGIN:VEVENT
CREATED:20260424T232655
UID:Property20857991Inspection57431432
DTEND;TZID=Australia/:20260425T110000
TRANSP:OPAQUE
SUMMARY:Open For Inspection: 5 CRINUM PLACE, MACQUARIE FIELDS
DESCRIPTION:Perfect family place in Macquarie fields - 
Enjoy extra convenience, located just minutes from local transport, schools, parks, childcare facilities, and a Glenquarie shopping centre.

Property Features:
Immaculate, neat, and tidy condition throughout.
A modern kitchen equipped with stainless steel appliances and a gas cooktop.
Three spacious bedrooms, each with a ceiling fan and a built-in robe.
Extensive storage options, including a metal garden shed and a separate lock-up storeroom.
Comfortable living with split-system air conditioning and a reliable hot water system.
Stylish wooden flooring featured throughout the home.
Exceptional outdoor living with a great-sized Alfresco area, a dedicated cabana retreat, and an extra room for entertainment.
Internal laundry with direct access to the backyard.
Note: No pets are permitted.

Please call Steven on 0423398500 for inspection by appointment




LAST-MODIFIED:20260424T232655
DTSTAMP:20260424T232655
DTSTART;TZID=Australia/:20260425T103000
LOCATION:5 CRINUM PLACE MACQUARIE FIELDS NSW 2564
URL:http://www.mansenre.com.au/20857991
SEQUENCE:0
END:VEVENT
END:VCALENDAR
