BEGIN:VCALENDAR
VERSION:2.0
PRODID:-//Apple Inc.//iCal 5.0.2//EN
CALSCALE:GREGORIAN
BEGIN:VTIMEZONE
TZID:Australia/
BEGIN:STANDARD
TZOFFSETFROM:+1100
RRULE:FREQ=YEARLY;BYMONTH=4;BYDAY=1SU
DTSTART:20080406T030000
TZNAME:
TZOFFSETTO:+
END:STANDARD
BEGIN:DAYLIGHT
TZOFFSETFROM:+
RRULE:FREQ=YEARLY;BYMONTH=10;BYDAY=1SU
DTSTART:20081005T020000
TZNAME:AEDT
TZOFFSETTO:+1100
END:DAYLIGHT
END:VTIMEZONE
BEGIN:VEVENT
CREATED:20260421T210116
UID:Property21481750Inspection57430362
DTEND;TZID=Australia/:20260425T131500
TRANSP:OPAQUE
SUMMARY:Open For Inspection: 901/250 City Road, Southbank
DESCRIPTION:2 Bedroom Apartment in the heart of Southbank - This  two-bedroom apartment is spacious,  well-designed layout offering a generous living area! Beautifully designed, providing an abundant living area, light-filled bedrooms and modern fittings and finishes. The apartment is equipped with prime quality appliances, air-conditioning, It is a rare find in this Melbourne's prime location.  Beautiful view of the city from the lounge room, balcony

Residents enjoy resort-style facilities including a pool, gym, and sauna, with secure intercom entry. Just moments from Crown Casino, Southbank Promenade, the Yarra River, public transport, and Melbourne CBD.

Situated perfectly in the heart of Southbank,  central to all key places in Melbourne. Just a short walk to Crown Entertainment Complex, South Melbourne Market and Melbourne CBD. 

The size of this apartment is around 62m2 approximately. Note: There are some furnitures available for use.

LAST-MODIFIED:20260421T210116
DTSTAMP:20260421T210116
DTSTART;TZID=Australia/:20260425T130000
LOCATION:901/250 City Road Southbank VIC 3006
URL:http://www.equitylinks.com.au/21481750
SEQUENCE:0
END:VEVENT
END:VCALENDAR
