BEGIN:VCALENDAR
VERSION:2.0
PRODID:-//Apple Inc.//iCal 5.0.2//EN
CALSCALE:GREGORIAN
BEGIN:VTIMEZONE
TZID:Australia/
BEGIN:STANDARD
TZOFFSETFROM:+1100
RRULE:FREQ=YEARLY;BYMONTH=4;BYDAY=1SU
DTSTART:20080406T030000
TZNAME:
TZOFFSETTO:+
END:STANDARD
BEGIN:DAYLIGHT
TZOFFSETFROM:+
RRULE:FREQ=YEARLY;BYMONTH=10;BYDAY=1SU
DTSTART:20081005T020000
TZNAME:AEDT
TZOFFSETTO:+1100
END:DAYLIGHT
END:VTIMEZONE
BEGIN:VEVENT
CREATED:20260425T023738
UID:Property20695258Inspection57430371
DTEND;TZID=Australia/:20260425T151500
TRANSP:OPAQUE
SUMMARY:Open For Inspection: 4 Eden Avenue, SPRINGVALE
DESCRIPTION:A nice place to raise your kids - A nice, homely place to call home. A large home with 4 bedroom with BIR located centrally in Springvale.  Offer dining and living areas, spacious modern kitchen with gas appliances and plenty of nice cupboards.  Newly polished flooring, with one bathroom, 1 toilet separate laundry and under cover garage and driveway parking.
Situated in convenient location with short distance to Sandown Train Station, Heatherhill Primary School and colleges, also Churches, Springvale Shopping Centre.
A place to call home for family.  Front and back yards for kids to run around and family gathering on the weekend.
LAST-MODIFIED:20260425T023738
DTSTAMP:20260425T023738
DTSTART;TZID=Australia/:20260425T150000
LOCATION:4 Eden Avenue SPRINGVALE VIC 3171
URL:http://www.equitylinks.com.au/20695258
SEQUENCE:0
END:VEVENT
END:VCALENDAR
