BEGIN:VCALENDAR
VERSION:2.0
PRODID:-//Apple Inc.//iCal 5.0.2//EN
CALSCALE:GREGORIAN
BEGIN:VTIMEZONE
TZID:Australia/
BEGIN:STANDARD
TZOFFSETFROM:+1100
RRULE:FREQ=YEARLY;BYMONTH=4;BYDAY=1SU
DTSTART:20080406T030000
TZNAME:
TZOFFSETTO:+
END:STANDARD
BEGIN:DAYLIGHT
TZOFFSETFROM:+
RRULE:FREQ=YEARLY;BYMONTH=10;BYDAY=1SU
DTSTART:20081005T020000
TZNAME:AEDT
TZOFFSETTO:+1100
END:DAYLIGHT
END:VTIMEZONE
BEGIN:VEVENT
CREATED:20260421T200128
UID:Property21619749Inspection57431380
DTEND;TZID=Australia/:20260426T130000
TRANSP:OPAQUE
SUMMARY:Open For Inspection: 84 Invergarry Cct, Heathwood
DESCRIPTION:Sometimes you just get lucky! - Lucky you will be, when you purchase 84 Invergarry Cct! Surrounded by modern new homes, a few steps to bus stops, parks and a family friendly neighbourhood!

This expansive ALMOST NEW family home displays the luxury of SPACE . . . Offering 4 well appointed sized bedrooms, separate study area located at the front of home, expansive lounge and dining area, HUGE kitchen with more pantry space than you can handle, and another rumpus room at the back. This home is BIG! MUST BE SEEN TO BE APPRECIATED.

Did I mention the stunning outdoor entertaining area, complete with inground sparkling pool, low maintenance turf and ample driveway to park plenty of cars!

Picture yourself having friends and relatives over, while you cook up your favourite dish to share with your loved ones, or watching your favourite show in the rumpus on a cosy winter night, or having pool parties with the kids in Summer! This home was built for all seasons of the year, and best of all, it&rsquo;s ready for you to move in today!

Extra features include -
- Quality built PLANTATION home
- Wide grand entrance with NORTH facing aspect
- High ceilings throughout
- Extra wide bench space, with dishwasher
- Large walk in pantry
- Large walk-in-robe in all bedrooms, master with HUGE WALK IN ROBE.
- Generous sized en suite
- Large laundry room
- Large bathroom with bathtub
- Ducted air conditioning
- 6.5KW Solar power, saving you hundreds $$$ every quarter!
- Pallara State school catchment
- Security system
- Plantation shutters throughout (cost thousands!)

Surrounded by quality built homes in the prestigious 'Rise Estate', this home is set to increase in value in the years to come! Get in now before the price rises again!

Text me, George Vuong anytime to inspect, you&rsquo;ll be happy you did!

(This property is being sold without a price and therefore a price guide cannot be provided. The website may have filtered the property into a price bracket for website functionality purposes.)

All offers must be submitted prior to end date, all offers are submitted on a first in, best offer basis, and the vendors may accept an offer prior to end date.

Disclaimer- All information relating to the property described is gathered from sources we believe to be reliable. However, we cannot guarantee or warrant it's accuracy. You should make your own enquiries, consult relevant advisers and satisfy yourself about it's integrity. Our full disclosure also applies and is outlined on our website www.remaxmasters.com.au
LAST-MODIFIED:20260421T200128
DTSTAMP:20260421T200128
DTSTART;TZID=Australia/:20260426T123000
LOCATION:84 Invergarry Cct Heathwood QLD 4110
URL:www.remaxmasters.com.au/21619749
SEQUENCE:0
END:VEVENT
END:VCALENDAR
