BEGIN:VCALENDAR
VERSION:2.0
PRODID:-//Apple Inc.//iCal 5.0.2//EN
CALSCALE:GREGORIAN
BEGIN:VTIMEZONE
TZID:Australia/
BEGIN:STANDARD
TZOFFSETFROM:+1100
RRULE:FREQ=YEARLY;BYMONTH=4;BYDAY=1SU
DTSTART:20080406T030000
TZNAME:
TZOFFSETTO:+
END:STANDARD
BEGIN:DAYLIGHT
TZOFFSETFROM:+
RRULE:FREQ=YEARLY;BYMONTH=10;BYDAY=1SU
DTSTART:20081005T020000
TZNAME:AEDT
TZOFFSETTO:+1100
END:DAYLIGHT
END:VTIMEZONE
BEGIN:VEVENT
CREATED:20260421T023608
UID:Property21619426Inspection57429742
DTEND;TZID=Australia/:20260422T174500
TRANSP:OPAQUE
SUMMARY:Open For Inspection: 55 Brandreth Street, TUSMORE
DESCRIPTION:Timeless Character, Refined for Modern Living - A Tusmore Classic on 1,008sqm - Positioned within one of Tusmore's most tightly held, tree-lined streets, this beautifully preserved 1926 home offers a rare balance of character, scale and flexibility, set on an expansive 1,008sqm (approx.) block. 

From the moment you arrive, the home makes a quiet but lasting impression offering established gardens whilst a gently curving pathway sets the tone, elegant, welcoming, and unmistakably enduring.

Inside, the home unfolds with a sense of craftsmanship rarely seen today. Rich timber floors, detailed ceiling work, leadlight features and original joinery create warmth and depth, while the generous proportions allow for both everyday living and larger-scale entertaining.

At its heart, a series of interconnected living rooms provide flexibility,  formal and informal spaces that can adapt as your needs evolve. The central living room, framed by built-in cabinetry and a feature fireplace, offers a beautiful gathering point, while adjoining rooms allow for separation, privacy or connection depending on the occasion.

The kitchen has been thoughtfully updated, offering a clean, functional layout with ample storage and direct connection to the outdoor entertaining area.

Three well-proportioned bedrooms sit within the main residence, serviced by two bathrooms, while a separate external studio introduces a valuable layer of versatility,  ideal as a fourth bedroom, guest accommodation, home office or teenage retreat.

Stepping outside, a covered alfresco deck provides year-round entertaining, overlooking a generous rear garden framed by established greenery. The freestanding studio/workshop adds further functionality, complemented by ample off-street parking. 

What stands out here is not just the scale, but the opportunity, a home that is immediately comfortable, yet offers scope to further enhance or extend over time (STCC), all within a location where long term value is consistently reinforced.

Why we love this home:
•	Character residence circa 1926 on 1,008sqm (approx.) 
•	Flexible floorplan with multiple living zones 
•	3 bedrooms in main home + separate external studio (bedroom 4/retreat) 
•	2 bathrooms + additional toilet 
•	Updated kitchen with ample storage 
•	Original timber floors, leadlight windows & detailed ceilings 
•	Feature fireplaces and built-in cabinetry 
•	Covered outdoor entertaining overlooking established gardens 
•	Freestanding studio/workshop with excellent versatility 
•	Secure parking with garage and additional off-street space 

Moments from some of Adelaide's most sought-after schools, local parks and the recently developed Burnside Village, this is a home where character, comfort and long term potential come together. 

A property to move into, grow with, and hold for years to come.

We've taken care to present this information as accurately as possible; however, we encourage all interested parties to make their own enquiries and seek independent advice to confirm details. RLA 281 247

LAST-MODIFIED:20260421T023608
DTSTAMP:20260421T023608
DTSTART;TZID=Australia/:20260422T170000
LOCATION:55 Brandreth Street TUSMORE SA 5065
URL:http://www.carterpartners.com.au/21619426
SEQUENCE:0
END:VEVENT
END:VCALENDAR
