BEGIN:VCALENDAR
VERSION:2.0
PRODID:-//Apple Inc.//iCal 5.0.2//EN
CALSCALE:GREGORIAN
BEGIN:VTIMEZONE
TZID:Australia/
BEGIN:STANDARD
TZOFFSETFROM:+1100
RRULE:FREQ=YEARLY;BYMONTH=4;BYDAY=1SU
DTSTART:20080406T030000
TZNAME:
TZOFFSETTO:+
END:STANDARD
BEGIN:DAYLIGHT
TZOFFSETFROM:+
RRULE:FREQ=YEARLY;BYMONTH=10;BYDAY=1SU
DTSTART:20081005T020000
TZNAME:AEDT
TZOFFSETTO:+1100
END:DAYLIGHT
END:VTIMEZONE
BEGIN:VEVENT
CREATED:20260420T182551
UID:Property20296857Inspection57423195
DTEND;TZID=Australia/:19700101T000000
TRANSP:OPAQUE
SUMMARY:Open For Inspection: 207/121-125 Victoria Road, Northcote
DESCRIPTION:LIBERTINE - 2 Bedroom Spacious Apartment in Perfect Location - **HOW TO INSPECT THIS PROPERTY**

Arranging an inspection is easy. If you are on our website, simply click the 'Book Inspection' button for that rental property. You MUST enter your details to book an inspection time. By registering your details using either method above, you will be INSTANTLY informed of any updates, changes or cancellations. If no one registers for an inspection time - then that inspection may not proceed. Book for an inspection time today!

Contemporary open plan kitchen with stainless steel Bosch appliances (gas cooktop & electric oven) and full size dishwasher, stone bench tops, plenty of cupboards plus built in wine rack 

Open living areas with low maintenance engineered floating wooden floors 

Bedrooms with mirrored sliding built in robes and carpet 

Bathroom consists of spacious shower with detachable shower head for easy cleaning, mirrored cabinets, glass screen and quality textured fixtures and fittings

European laundry 

Private balcony 

Additional features Include :

o Split system, heating & cooling

o Gated car parking (stacker) suitable for vehicles up to 2000kgs.  You can inspect the car stacker and contact the stacker company to confirm if your car fits in your allocated stacker. 

o Single lock up storage cage

o Secure swipe building access and video intercom

o Communal rooftop terrace with a BBQ facilities, beautiful city views, excellent for entertaining or just to relax

A serene entry featuring natural timbers, a reflection pool and an impressive sense of greenery sets the tone for life at Libertine. 

Appreciate the convenience of public transport on your doorstep, located about 7 kilometres from the Melbourne CBD with only 34 apartments in the building.  Northcote is well serviced with a diverse network of buses, trains and trams, making getting around a breeze.
LAST-MODIFIED:20260420T182551
DTSTAMP:20260420T182551
DTSTART;TZID=Australia/:19700101T100000
LOCATION:207/121-125 Victoria Road Northcote VIC 3070
URL:http://www.assetadvantage.com.au/20296857
SEQUENCE:0
END:VEVENT
END:VCALENDAR
