BEGIN:VCALENDAR
VERSION:2.0
PRODID:-//Apple Inc.//iCal 5.0.2//EN
CALSCALE:GREGORIAN
BEGIN:VTIMEZONE
TZID:Australia/
BEGIN:STANDARD
TZOFFSETFROM:+1100
RRULE:FREQ=YEARLY;BYMONTH=4;BYDAY=1SU
DTSTART:20080406T030000
TZNAME:
TZOFFSETTO:+
END:STANDARD
BEGIN:DAYLIGHT
TZOFFSETFROM:+
RRULE:FREQ=YEARLY;BYMONTH=10;BYDAY=1SU
DTSTART:20081005T020000
TZNAME:AEDT
TZOFFSETTO:+1100
END:DAYLIGHT
END:VTIMEZONE
BEGIN:VEVENT
CREATED:20260423T015045
UID:Property21188875Inspection57430969
DTEND;TZID=Australia/:20260423T125000
TRANSP:OPAQUE
SUMMARY:Open For Inspection: 101/292-302 Oxford Street, Bondi Junction
DESCRIPTION:THE OXFORD RESIDENCES - Prestige Apartment - 1 Bed 1 Bath + 1 Car + storage. - This prestige 1 bedroom 1 bathroom plus storage, located on ground level, in a prime location. It features a floor to ceiling glass wall. Plus exclusive rooftop entertaining terrace with panoramic views. Ideal for the executive looking for lifestyle and convenience as this superb apartment, close to all the amenities that Bondi Junction has to offer.
 
Prestige features includes;
 
* Spacious living open area to a balcony ideal for entertainment.
* Stunning kitchen - with marble benchtops Miele appliances (including dishwasher)
* Superbly appointed bedroom with built-in wardrobe
* Plus a designer bathroom.
* Internal laundry - including Miele dryer
* Ducted air conditioning throughout
* Intercom &amp; NBN
* Storage 
* Rooftop common area with panoramic views
* Bicycle facilities for residents
* Close to parks, beach, and sports stadium

* Please call Pilar Fox on 0435 773 048 to arrange a private inspection.
LAST-MODIFIED:20260423T015045
DTSTAMP:20260423T015045
DTSTART;TZID=Australia/:20260423T123000
LOCATION:101/292-302 Oxford Street Bondi Junction NSW 2022
URL:http://www.assetadvantage.com.au/21188875
SEQUENCE:0
END:VEVENT
END:VCALENDAR
