BEGIN:VCALENDAR
VERSION:2.0
PRODID:-//Apple Inc.//iCal 5.0.2//EN
CALSCALE:GREGORIAN
BEGIN:VTIMEZONE
TZID:Australia/
BEGIN:STANDARD
TZOFFSETFROM:+1100
RRULE:FREQ=YEARLY;BYMONTH=4;BYDAY=1SU
DTSTART:20080406T030000
TZNAME:
TZOFFSETTO:+
END:STANDARD
BEGIN:DAYLIGHT
TZOFFSETFROM:+
RRULE:FREQ=YEARLY;BYMONTH=10;BYDAY=1SU
DTSTART:20081005T020000
TZNAME:AEDT
TZOFFSETTO:+1100
END:DAYLIGHT
END:VTIMEZONE
BEGIN:VEVENT
CREATED:20260425T031147
UID:Property21619628Inspection57430891
DTEND;TZID=Australia/:20260425T231500
TRANSP:OPAQUE
SUMMARY:Open For Inspection: 12 Eastlakes Glade, BLACKTOWN
DESCRIPTION:Modern Family Home at FAIRWATER - Fantastic opportunity to leaving nice family home in Fairwater, offering spacious interior and exterior proportions. Large living area and alfresco on the ground floor are perfect for entertainment and quality living. The East aspect covered not only the rear garden but also the living room and the dining area including the alfresco.

This modern built newly home is part of the well-established Fairwater Estate which is a hidden gem Estate in Blacktown area.

This home is conveniently in one of the best locations in Fairwater with a short stroll to shopping centres, Central Park, schools, adventure playground and well-serviced transport links including easy access to two railway station.

* Features
- Corner house with 223m2 of land
- Large open plan living and dining with ceramic floor tiles throughout & ceiling fan
- Beautifully designed modern kitchen with SMEG cooking appliances
- Outdoor covered alfresco, comprehensive landscaping
- Boosting spacious 3bedrooms with built-ins and ceiling fan
- Master with an en-suite, walk-in-robe
- Shared bathroom includes heat lamp with externally ducted exhaust fan
- Contemporary free standing bath, separate shower, toilet and vanity
- Fully ducted reverse cycle air-conditioning
- Automatic lockup garage
- Gas instant hot water
- NBN - broadband internet - fibre to the home and cable TV points throughout
- Eco-friendly features such as gas appliances, water tank and energy efficient fixtures
- LED downlights, wall and ceiling insulation

* Other attractive features include
- Less than 1kim to Blacktown CBD, Bus & train interchange
- Close to recreation and entertainment
- Easy access onto M4 or M2 and M7

Disclaimer: All information contained herein is obtained from property owners or third-party sources which we believe are reliable. We have no reason to doubt its accuracy, however we cannot guarantee it. All interested person/s should rely on their own enquiries.
LAST-MODIFIED:20260425T031147
DTSTAMP:20260425T031147
DTSTART;TZID=Australia/:20260425T230000
LOCATION:12 Eastlakes Glade BLACKTOWN NSW 2148
URL:http://www.sweetrealty.com.au/21619628
SEQUENCE:0
END:VEVENT
END:VCALENDAR
