BEGIN:VCALENDAR
VERSION:2.0
PRODID:-//Apple Inc.//iCal 5.0.2//EN
CALSCALE:GREGORIAN
BEGIN:VTIMEZONE
TZID:Australia/
BEGIN:STANDARD
TZOFFSETFROM:+1100
RRULE:FREQ=YEARLY;BYMONTH=4;BYDAY=1SU
DTSTART:20080406T030000
TZNAME:
TZOFFSETTO:+
END:STANDARD
BEGIN:DAYLIGHT
TZOFFSETFROM:+
RRULE:FREQ=YEARLY;BYMONTH=10;BYDAY=1SU
DTSTART:20081005T020000
TZNAME:AEDT
TZOFFSETTO:+1100
END:DAYLIGHT
END:VTIMEZONE
BEGIN:VEVENT
CREATED:20260425T031147
UID:Property21619710Inspection57431255
DTEND;TZID=Australia/:20260425T121500
TRANSP:OPAQUE
SUMMARY:Open For Inspection: 807/5 Wentworth Place, WENTWORTH POINT
DESCRIPTION:Experience Contemporary Elegance with Luxurious Resort-Style Living - Filled with natural light and framed by floor-to-ceiling windows, this stylish residence offers a warm and modern feel throughout, featuring timber-look flooring, a spacious open-plan layout, and a versatile wintergarden with district views and water glimpses ideal for year-round use. A rare offering, the property includes two side-by-side basement car spaces plus two storage cages, providing excellent convenience and additional space. Located in the vibrant Waterways community, it is just moments from foreshore walks, Marina Square, and the free Baylink Shuttle to Rhodes, delivering a lifestyle of comfort and convenience.

Property Features

+ Floor to ceiling windows capturing abundant natural light and framing district and water views.
+ Modern open plan living with warm timer look flooring throughout
+ Contemporary kitchen with stone benchtops, gas cooking & European appliances.
+ Three spacious bedrooms, with built in wardrobes.
+ Master bedroom with ensuite and sweeping outlook.
+ Stylish bathrooms with premium finishes and mirrored cabinetry.
+ Internal laundry with dryer and washing machine included.
+ Split system air conditioning in living and each bedroom for year round comfort.
+ Secure basement double parking plus spacious storage cage.
+ Versatile wintergarden ideal as a dining extension, study, or second lounge.

Lifestyle & Location

+ Steps to Marina Square Shopping Centre.
+ Short walk to ferry wharf, free shuttle to Rhodes, and Olympic Park.
+ Surrounded by cafés, dining, parks, and waterfront walking tracks.
+ Easy access to schools, library and community amenities.
+ World class cycling paths and foreshore reserves.
+ Rooftop garden with panoramic river and district views.

For more information and inspection, please contact rentals on 0406 517 601

Disclaimer: All information contained herein is obtained from property owners or third-party sources which we believe are reliable. We have no reason to doubt its accuracy; however, we cannot guarantee it. All interested person/s should rely on their own enquiries.

LAST-MODIFIED:20260425T031147
DTSTAMP:20260425T031147
DTSTART;TZID=Australia/:20260425T120000
LOCATION:807/5 Wentworth Place WENTWORTH POINT NSW 2127
URL:http://www.sweetrealty.com.au/21619710
SEQUENCE:0
END:VEVENT
END:VCALENDAR
