BEGIN:VCALENDAR
VERSION:2.0
PRODID:-//Apple Inc.//iCal 5.0.2//EN
CALSCALE:GREGORIAN
BEGIN:VTIMEZONE
TZID:Australia/
BEGIN:STANDARD
TZOFFSETFROM:+1100
RRULE:FREQ=YEARLY;BYMONTH=4;BYDAY=1SU
DTSTART:20080406T030000
TZNAME:
TZOFFSETTO:+
END:STANDARD
BEGIN:DAYLIGHT
TZOFFSETFROM:+
RRULE:FREQ=YEARLY;BYMONTH=10;BYDAY=1SU
DTSTART:20081005T020000
TZNAME:AEDT
TZOFFSETTO:+1100
END:DAYLIGHT
END:VTIMEZONE
BEGIN:VEVENT
CREATED:20260422T184759
UID:Property21619348Inspection57428998
DTEND;TZID=Australia/:19700101T000000
TRANSP:OPAQUE
SUMMARY:Open For Inspection: 27 Bazentin Street, Belfield
DESCRIPTION:A Premium Location with Exceptional Future Potential - Set on a substantial 693sqm parcel with an impressive 15.2m frontage, 27 Bazentin Street presents a standout opportunity for families, developers, and investors seeking to maximise potential in a high-demand location.
 
With its wide frontage and generous land size, the property lends itself perfectly to redevelopment or the construction of a brand-new luxury residence (STCA). Opportunities offering this combination of land size and frontage are highly sought after and tightly held.
 
The home itself features a functional layout comprising three bedrooms, two bathrooms, multiple living areas, and two car spaces, providing immediate comfort or a steady rental return while future plans are explored.
 
Positioned for ultimate convenience, the property is just moments from Belfield shops, quality local schools, parks, and only minutes to Belmore train station, ensuring strong ongoing appeal and future growth.
LAST-MODIFIED:20260422T184759
DTSTAMP:20260422T184759
DTSTART;TZID=Australia/:19700101T100000
LOCATION:27 Bazentin Street Belfield NSW 2191
URL:http://www.mayfairrealestate.com.au/21619348
SEQUENCE:0
END:VEVENT
END:VCALENDAR
