BEGIN:VCALENDAR
VERSION:2.0
PRODID:-//Apple Inc.//iCal 5.0.2//EN
CALSCALE:GREGORIAN
BEGIN:VTIMEZONE
TZID:Australia/
BEGIN:STANDARD
TZOFFSETFROM:+1100
RRULE:FREQ=YEARLY;BYMONTH=4;BYDAY=1SU
DTSTART:20080406T030000
TZNAME:
TZOFFSETTO:+
END:STANDARD
BEGIN:DAYLIGHT
TZOFFSETFROM:+
RRULE:FREQ=YEARLY;BYMONTH=10;BYDAY=1SU
DTSTART:20081005T020000
TZNAME:AEDT
TZOFFSETTO:+1100
END:DAYLIGHT
END:VTIMEZONE
BEGIN:VEVENT
CREATED:20260422T174800
UID:Property21619913Inspection57432374
DTEND;TZID=Australia/:20260424T121500
TRANSP:OPAQUE
SUMMARY:Open For Inspection: 1/27 Eider Avenue, PARADISE POINT
DESCRIPTION:Coastal Living in a Prime Paradise Point Location - Positioned in one of the Gold Coast's most sought-after seaside pockets, this well-presented home offers the perfect blend of comfort, convenience and lifestyle. Just moments from the waterfront, local cafés and parklands, you'll enjoy everything this vibrant coastal community has to offer right at your doorstep.

Inside, the home features a practical and easy-care layout with three well-sized bedrooms and two bathrooms, making it ideal for families, couples or professionals. With a low-maintenance design and a single lock-up carport, this property delivers relaxed living without the upkeep.

Some of the many features include:
*  Master bedroom with and ensuite 
*  2 other bedrooms with built in robes and fans 
*  Well appointed kitchen complete with dishwasher 
*  Open plan lounge and dining area 
*  Outdoor entertaining area 
*  Remote single lock up carport 
*  Close to school, shops & café's 

If you would like the opportunity to call this fantastic property your new home, then apply today, before you miss out!
LAST-MODIFIED:20260422T174800
DTSTAMP:20260422T174800
DTSTART;TZID=Australia/:20260424T120000
LOCATION:1/27 Eider Avenue PARADISE POINT QLD 4216
URL:http://www.beyondestateagents.com.au/21619913
SEQUENCE:0
END:VEVENT
END:VCALENDAR
