BEGIN:VCALENDAR
VERSION:2.0
PRODID:-//Apple Inc.//iCal 5.0.2//EN
CALSCALE:GREGORIAN
BEGIN:VTIMEZONE
TZID:Australia/
BEGIN:STANDARD
TZOFFSETFROM:+1100
RRULE:FREQ=YEARLY;BYMONTH=4;BYDAY=1SU
DTSTART:20080406T030000
TZNAME:
TZOFFSETTO:+
END:STANDARD
BEGIN:DAYLIGHT
TZOFFSETFROM:+
RRULE:FREQ=YEARLY;BYMONTH=10;BYDAY=1SU
DTSTART:20081005T020000
TZNAME:AEDT
TZOFFSETTO:+1100
END:DAYLIGHT
END:VTIMEZONE
BEGIN:VEVENT
CREATED:20260420T130423
UID:Property21607497Inspection57427750
DTEND;TZID=Australia/:20260426T143000
TRANSP:OPAQUE
SUMMARY:Open For Inspection: 146 Hitchen Road, Pokeno
DESCRIPTION:Dreams do come true - Step inside this stunning DW Home and feel like you've walked into a show home! From the elegant schist pillars to the sophisticated street appeal, every detail impresses. There's extra parking for your boat, trailer, or motorhome, making it perfect for families who need the extra outdoor space.
Imagine gathering with family and friends around the stunning designer kitchen with its large island, induction cooktop, wall oven, and recessed LED lighting, where every meal feels like a special occasion. Behind the scenes, a sensor-lit scullery quietly keeps everything organised, offering elegant storage and plenty of workspace for all your culinary creations.
The open-plan living and dining space is bright, flowing, and effortlessly connected, showcasing upgraded, textured flooring that blends durability with style. Two triple stacker doors extend the space onto a generous alfresco dining area, ideal for summer entertaining or simply enjoying uninterrupted Mt William views rain or shine. A separate lounge, framed by a feature barn door, provides a sophisticated retreat for movie nights, homework, or quiet relaxation.
Comfort is assured with Daikin central heating throughout and underfloor heating in the bathrooms, while premium blinds, curtains, and drapes complete the polished, stylish interior.
The master suite is at one end of the home, featuring a large fitted wardrobe and ensuite with non-slip tiles. Three additional bedrooms, all with wardrobes, are perfectly positioned down the hallway for family or guests. The main bathroom is luxurious, with a deep bath, heated towel rail, underfloor heating, recessed shower shelving, and extractor fan.
Other standout features include:
&#149; Front door with keyless entry and doorbell
&#149; Separate toilet with vanity
&#149; Spacious tiled laundry with double appliance space, tub, and cupboards
&#149; Gas hot water
&#149; Alarm system & deadbolt security doors
&#149; Attic storage with stairs in the garage
&#149; Carpeted internal access garage
This is more than a home - it's a lifestyle, blending style, comfort, and functionality. Every corner has been carefully crafted for families who appreciate the finer things in life. Don't miss your chance to make this spectacular home yours!
LAST-MODIFIED:20260420T130423
DTSTAMP:20260420T130423
DTSTART;TZID=Australia/:20260426T140000
LOCATION:146 Hitchen Road Pokeno WAIKATO 2402
URL:http://www.remaxstars.co.nz/21607497
SEQUENCE:0
END:VEVENT
END:VCALENDAR
