BEGIN:VCALENDAR
VERSION:2.0
PRODID:-//Apple Inc.//iCal 5.0.2//EN
CALSCALE:GREGORIAN
BEGIN:VTIMEZONE
TZID:Australia/
BEGIN:STANDARD
TZOFFSETFROM:+1100
RRULE:FREQ=YEARLY;BYMONTH=4;BYDAY=1SU
DTSTART:20080406T030000
TZNAME:
TZOFFSETTO:+
END:STANDARD
BEGIN:DAYLIGHT
TZOFFSETFROM:+
RRULE:FREQ=YEARLY;BYMONTH=10;BYDAY=1SU
DTSTART:20081005T020000
TZNAME:AEDT
TZOFFSETTO:+1100
END:DAYLIGHT
END:VTIMEZONE
BEGIN:VEVENT
CREATED:20260425T011731
UID:Property21610933Inspection57427464
DTEND;TZID=Australia/:20260425T123000
TRANSP:OPAQUE
SUMMARY:Open For Inspection: 30 Ambigua Way, Donnybrook
DESCRIPTION:Contemporary Elegance in a Thriving Katalia Estate by Stockland !! - Welcome to a home where refined design meets effortless modern living. Perfectly positioned in the fast-growing heart of Donnybrook, this beautifully appointed residence offers a seamless blend of comfort, style, and sophistication-ideal for families, first-home buyers, or savvy investors.

The Residence

Step inside and experience light-filled interiors enhanced by a thoughtfully designed open-plan layout. The expansive living and dining zone flows gracefully into a designer kitchen, creating the perfect space for both relaxed family moments and elegant entertaining.

Key Features:

-Generous bedrooms with built-in robes
-Stylish central bathroom plus private ensuite to the master suite
-Gourmet kitchen with stone benchtops & premium stainless steel appliances
-Secure double garage with internal access
-Heating & cooling for year-round comfort
-Lifestyle & Location

Nestled within a flourishing community, this address offers unmatched convenience and future growth potential. Enjoy easy access to transport, green open spaces, and essential amenities-all just moments away.

- Just few min to Donnybrook Station for effortless city commuting
- Quick connectivity via the Hume Freeway
- Minutes to shopping, dining, and services in Kalkallo, Mickleham and Craigieburn
- Surrounded by emerging schools, parks, and family-friendly infrastructure
- Just a few minutes walk to Hume Anglican Grammar School and Donnybrook Primary School  

Positioned within one of Melbourne's most exciting growth corridors, this home represents not just a place to live-but a lifestyle to aspire to, and an opportunity to secure long-term value.

Enquire today to experience elevated living in Donnybrook. 
Robbie Sandhu : 0425707803        Gordon Garg : 0433897397

Photo ID required for all inspections

Due Diligence Checklist
https://www.consumer.vic.gov.au/duediligencechecklist

DISCLAIMER: All stated dimensions are approximate only and all photos are for illustration purposes only. Particulars given are for general information only and do not constitute any representation on the part of the vendor or agent.
LAST-MODIFIED:20260425T011731
DTSTAMP:20260425T011731
DTSTART;TZID=Australia/:20260425T120000
LOCATION:30 Ambigua Way Donnybrook VIC 3064
URL:https://www.urevic.com.au//21610933
SEQUENCE:0
END:VEVENT
END:VCALENDAR
