BEGIN:VCALENDAR
VERSION:2.0
PRODID:-//Apple Inc.//iCal 5.0.2//EN
CALSCALE:GREGORIAN
BEGIN:VTIMEZONE
TZID:Australia/
BEGIN:STANDARD
TZOFFSETFROM:+1100
RRULE:FREQ=YEARLY;BYMONTH=4;BYDAY=1SU
DTSTART:20080406T030000
TZNAME:
TZOFFSETTO:+
END:STANDARD
BEGIN:DAYLIGHT
TZOFFSETFROM:+
RRULE:FREQ=YEARLY;BYMONTH=10;BYDAY=1SU
DTSTART:20081005T020000
TZNAME:AEDT
TZOFFSETTO:+1100
END:DAYLIGHT
END:VTIMEZONE
BEGIN:VEVENT
CREATED:20260425T011812
UID:Property21611703Inspection57427472
DTEND;TZID=Australia/:20260425T110000
TRANSP:OPAQUE
SUMMARY:Open For Inspection: 43 Tremaine Ave, Mickleham
DESCRIPTION:Modern Elegance and Low Price !! Make This House your Home !! - Commanding attention with its refined presence, 43 Teamaine Avenue, Mickleham delivers an exceptional standard of contemporary family living, where sophistication meets effortless comfort.

Beyond its striking façade, this impeccably appointed residence reveals four generously proportioned bedrooms, including a lavish master retreat complete with a private ensuite and walk-in robe. The remaining bedrooms are thoughtfully positioned and serviced by a beautifully finished central bathroom, offering both style and functionality.

At the heart of the home, an expansive open-plan living and dining domain unfolds with seamless grace, bathed in natural light and designed for both intimate family moments and grand-scale entertaining. The gourmet kitchen is a true centrepiece, showcasing premium appliances, sleek cabinetry, and abundant workspace-perfectly tailored for the modern culinary enthusiast.
 
Every detail has been carefully curated to ensure a lifestyle of ease and understated luxury.

Further enhancing this remarkable home is a double garage with internal access, dedicated laundry, and climate control for year-round comfort.

Positioned within a prestigious and rapidly evolving enclave, you are moments from quality schools, lush parklands, shopping destinations, and convenient transport links.

Indulge in refined living-where elegance, space, and lifestyle converge.

Robbie Sandhu : 0425707803

Photo ID required for all inspections

Due Diligence Checklist
https://www.consumer.vic.gov.au/duediligencechecklist

DISCLAIMER: All stated dimensions are approximate only and all photos are for illustration purposes only. Particulars given are for general information only and do not constitute any representation on the part of the vendor or agent.

LAST-MODIFIED:20260425T011812
DTSTAMP:20260425T011812
DTSTART;TZID=Australia/:20260425T103000
LOCATION:43 Tremaine Ave Mickleham VIC 3064
URL:https://www.urevic.com.au//21611703
SEQUENCE:0
END:VEVENT
END:VCALENDAR
