BEGIN:VCALENDAR
VERSION:2.0
PRODID:-//Apple Inc.//iCal 5.0.2//EN
CALSCALE:GREGORIAN
BEGIN:VTIMEZONE
TZID:Australia/
BEGIN:STANDARD
TZOFFSETFROM:+1100
RRULE:FREQ=YEARLY;BYMONTH=4;BYDAY=1SU
DTSTART:20080406T030000
TZNAME:
TZOFFSETTO:+
END:STANDARD
BEGIN:DAYLIGHT
TZOFFSETFROM:+
RRULE:FREQ=YEARLY;BYMONTH=10;BYDAY=1SU
DTSTART:20081005T020000
TZNAME:AEDT
TZOFFSETTO:+1100
END:DAYLIGHT
END:VTIMEZONE
BEGIN:VEVENT
CREATED:20260425T011731
UID:Property21606928Inspection57433619
DTEND;TZID=Australia/:20260425T121500
TRANSP:OPAQUE
SUMMARY:Open For Inspection: 25 Golden Ash Grove, Hoppers Crossing
DESCRIPTION:Spacious 4-Bedroom Family Home with Double Garage & Generous Backyard!! - The home features four well-sized bedrooms, including a master bedroom with a private ensuite, while the remaining three bedrooms are serviced by a central bathroom, making it ideal for families. A formal lounge at the front provides a welcoming space to relax or entertain guests. The property also includes a well-equipped kitchen with ample storage and workspace.

Step outside to a generous backyard featuring a covered patio area, Completing the home is a double garage, adding further convenience and secure parking.

Key Features:

4 spacious bedrooms
Master bedroom with ensuite
Central bathroom servicing remaining bedrooms
Formal lounge area
Well-equipped kitchen with ample storage
Double garage
Generous backyard
Covered outdoor patio area

Location & Nearby Amenities:
Conveniently positioned close to essential amenities including Pacific Werribee Shopping Centre for shopping and dining, Hoppers Crossing Railway Station for easy commuting, and reputable schools such as Hoppers Crossing Secondary College. Parks, childcare centres, and medical facilities are also within easy reach, making this a convenient and family-friendly location.

Rent Amount: $530 Per Week / $2303 Per Calendar Month
Bond Amount: $2303
Available: Now 

To submit your application, please use the APPLY button. 
PHOTO ID is required for inspections.

Disclaimer: All stated dimensions are approximate, and all photos are for illustration purpose only. The particulars provided are for general information only do not constitute any representation on the part of the rental provider or agent.
LAST-MODIFIED:20260425T011731
DTSTAMP:20260425T011731
DTSTART;TZID=Australia/:20260425T120000
LOCATION:25 Golden Ash Grove Hoppers Crossing VIC 3029
URL:https://www.urevic.com.au//21606928
SEQUENCE:0
END:VEVENT
END:VCALENDAR
