BEGIN:VCALENDAR
VERSION:2.0
PRODID:-//Apple Inc.//iCal 5.0.2//EN
CALSCALE:GREGORIAN
BEGIN:VTIMEZONE
TZID:Australia/
BEGIN:STANDARD
TZOFFSETFROM:+1100
RRULE:FREQ=YEARLY;BYMONTH=4;BYDAY=1SU
DTSTART:20080406T030000
TZNAME:
TZOFFSETTO:+
END:STANDARD
BEGIN:DAYLIGHT
TZOFFSETFROM:+
RRULE:FREQ=YEARLY;BYMONTH=10;BYDAY=1SU
DTSTART:20081005T020000
TZNAME:AEDT
TZOFFSETTO:+1100
END:DAYLIGHT
END:VTIMEZONE
BEGIN:VEVENT
CREATED:20260425T011939
UID:Property21616711Inspection57436346
DTEND;TZID=Australia/:20260425T141000
TRANSP:OPAQUE
SUMMARY:Open For Inspection: 39 Albion Crescent, Mickleham
DESCRIPTION:Rent this 3 Bedroom home In Merrifield Estate!!! - This family home located in the prestigious Merrifield Estate is next to most of the local amenities
 
The home offers features such as: 
3 bedrooms
A master bedroom with full ensuite and walk in robe
Large kitchen with ample cupboard space and stone bench tops
Stainless steel appliances including dishwasher
Open plan meals and family area
Single garage with remote control and internal access.

Also includes Ducted heating, Split System Cooling Window furnishings.
Location: Minutes from Local Schools, Merrifield City - Coles and Local Shops, Kool Kids Childcare, Close to playgrounds/ parks, Hume Freeway and all other local amenities.

For Application and Inspection Contact Our Rental Department on 0466 075 434.
 
Rent Amount: $465 per week
Bond Amount: $2021
Available - NOW

DISCLAIMER: All stated dimensions are approximate only and all photos are for illustration purposes only. Particulars given are for general information only and do not constitute any representation on the part of the rental provider or agent.
LAST-MODIFIED:20260425T011939
DTSTAMP:20260425T011939
DTSTART;TZID=Australia/:20260425T135500
LOCATION:39 Albion Crescent Mickleham VIC 3064
URL:https://www.urevic.com.au//21616711
SEQUENCE:0
END:VEVENT
END:VCALENDAR
