BEGIN:VCALENDAR
VERSION:2.0
PRODID:-//Apple Inc.//iCal 5.0.2//EN
CALSCALE:GREGORIAN
BEGIN:VTIMEZONE
TZID:Australia/
BEGIN:STANDARD
TZOFFSETFROM:+1100
RRULE:FREQ=YEARLY;BYMONTH=4;BYDAY=1SU
DTSTART:20080406T030000
TZNAME:
TZOFFSETTO:+
END:STANDARD
BEGIN:DAYLIGHT
TZOFFSETFROM:+
RRULE:FREQ=YEARLY;BYMONTH=10;BYDAY=1SU
DTSTART:20081005T020000
TZNAME:AEDT
TZOFFSETTO:+1100
END:DAYLIGHT
END:VTIMEZONE
BEGIN:VEVENT
CREATED:20260425T011559
UID:Property21571799Inspection57432560
DTEND;TZID=Australia/:20260425T120000
TRANSP:OPAQUE
SUMMARY:Open For Inspection: 82 Blue Lake Drive, WALLAN
DESCRIPTION:BRAND NEW LUXURY FAMILY HOME IN WALLAN WALLARA WATERS ESTATE!! - URV proudly presents modern living in this beautifully designed single-storey home, built by Criterion Homes-a trusted and registered builder known for its quality craftsmanship and attention to detail. Perfectly positioned in the rapidly growing Wallan community, this home combines elegant design, premium inclusions, and functional family spaces.

KEY FEATURES:

House Size: Approx. 25 squares | Land: Generous Allotment

Spacious Layout:
- Five bedrooms, including a master with an ensuite and a walk-in robe.
- 5th bedrooms/ Rumpus/ Formal lounge.
- Study/home office and double garage with remote door.
- Total living area approx. 233.83 m2 (25.17 squares).

Premium Inclusions:
- 2.7m ceilings with modern cornice finish.
- Hybrid timber flooring and LED downlights.
- 60mm stone benchtops to the kitchen.
- Dual-colour soft-close cabinetry and 900mm Technica appliances.
- Undermount sink, tiled splashback (1500x750mm), walk-in pantry & island with waterfall edges.

Luxurious Bathrooms:
- Floor-to-ceiling porcelain tiles.
- LED mirrors, shower niches, and semi-frameless black fittings.
- High-gloss vanities and premium tapware.

Functional Laundry:
- Overhead cabinetry, 40mm stone benchtop, undermount sink.
- Glass sliding door to the backyard.

Exterior Excellence:
- Brick veneer façade with rendered pier & timber cladding.
- Exposed aggregate driveway and alfresco with porcelain tiles.
- Landscaping, side fencing, clothesline & letterbox included.
- Color bond roof and timber-look sectional garage door.

Comfort & Technology:
- Samsung Refrigerated heating & cooling.
- Digital smart lock, TV antenna & NBN ready.
- Sensor flood lights to the exterior.

LOCATION ADVANTAGES MINUTES AWAY:
- Muyan Primary School is a new school in Wallan, scheduled to open on January 29, 2026.
- Our Lady of the Way 
- Wallan Secondary College 
- Wallan Primary School 
- McDonald's, KFC & Subway 
- Coles & Woolworths 
- Wallan Junction 
- Wellington Square Shopping Centre 
- Nexus Wallan Primary

ENQUIRE TODAY!
Contact Achal Arora (Jazz) - 0432 413 929 today for more information or to arrange a private inspection.

DISCLAIMER
All stated dimensions are approximate only, and all photos are for illustration purposes only. Particulars given are for general information only and do not constitute any representation on the part of the vendor or agent. Please do your own Due Diligence and do not rely on any of the above information.
LAST-MODIFIED:20260425T011559
DTSTAMP:20260425T011559
DTSTART;TZID=Australia/:20260425T113000
LOCATION:82 Blue Lake Drive WALLAN VIC 3756
URL:http://www.urevic.com.au/21571799
SEQUENCE:0
END:VEVENT
END:VCALENDAR
