BEGIN:VCALENDAR
VERSION:2.0
PRODID:-//Apple Inc.//iCal 5.0.2//EN
CALSCALE:GREGORIAN
BEGIN:VTIMEZONE
TZID:Australia/
BEGIN:STANDARD
TZOFFSETFROM:+1100
RRULE:FREQ=YEARLY;BYMONTH=4;BYDAY=1SU
DTSTART:20080406T030000
TZNAME:
TZOFFSETTO:+
END:STANDARD
BEGIN:DAYLIGHT
TZOFFSETFROM:+
RRULE:FREQ=YEARLY;BYMONTH=10;BYDAY=1SU
DTSTART:20081005T020000
TZNAME:AEDT
TZOFFSETTO:+1100
END:DAYLIGHT
END:VTIMEZONE
BEGIN:VEVENT
CREATED:20260426T012513
UID:Property21170722Inspection57434021
DTEND;TZID=Australia/:20260430T121500
TRANSP:OPAQUE
SUMMARY:Open For Inspection: 11 Jilley Road, GELORUP
DESCRIPTION:Rural Retreat Meets Modern Convenience: Your Gelorup Escape - Looking for the perfect balance of country peace and city proximity? This spacious home in the highly sought-after rural suburb of Gelorup offers a private, leafy lifestyle without sacrificing your morning coffee run.

The Home

This residence is designed for those who love space-both inside and out. With a layout that prioritizes comfort, you'll find:
* Three Double-Sized Bedrooms: Each featuring built-in robes for effortless storage.
* Country Style Kitchen: The heart of the home, perfect for those who love a rustic, warm aesthetic.
* Massive Living Areas: Includes a formal lounge and dining area, plus an expansive family room that effectively doubles the internal living space.
* Outdoor Living: A large patio area perfect for weekend BBQs and taking in the quiet rural surroundings.

The Extras
*  Storage Galore: An 8m x 6m powered shed plus various garden sheds for all your tools and toys.
* Eco-Friendly & Cost-Effective: Equipped with Solar Panels to slash your power bills.
* Water Security: Large household water tank plus a bore dedicated to keeping the lawns and gardens lush.
* Stay Connected: NBN ready for those working from home or streaming.

The Location
* Shopping: A stone's throw from the Dalyellup Shopping Centre.
* Commute: A short, easy drive into the Bunbury CBD.
* Lifestyle: Minutes away from pristine local beaches.

Viewing Information

We are hosting Open Viewings in mid-April.
* No bookings required.
* Keep an eye on the listing for specific dates and times.
* Simply turn up on the day!

Note: The property is partially fenced.

Applications via https://www.harcourtsapg.com.au/rent/online-rental-application-form

**Disclaimer: We have in preparing this document used our best endeavours to ensure the information contained is true and accurate, but accept no responsibility and disclaim all liability in respect to any errors, omissions, inaccuracies or misstatements contained. Interested parties should make their own enquiries to verify the information contained in this material. Licensee: Real Court Pty Ltd ABN 79 124 092 093
LAST-MODIFIED:20260426T012513
DTSTAMP:20260426T012513
DTSTART;TZID=Australia/:20260430T120000
LOCATION:11 Jilley Road GELORUP WA 6230
URL:https://www.harcourtsapg.com.au//21170722
SEQUENCE:0
END:VEVENT
END:VCALENDAR
