BEGIN:VCALENDAR
VERSION:2.0
PRODID:-//Apple Inc.//iCal 5.0.2//EN
CALSCALE:GREGORIAN
BEGIN:VTIMEZONE
TZID:Australia/
BEGIN:STANDARD
TZOFFSETFROM:+1100
RRULE:FREQ=YEARLY;BYMONTH=4;BYDAY=1SU
DTSTART:20080406T030000
TZNAME:
TZOFFSETTO:+
END:STANDARD
BEGIN:DAYLIGHT
TZOFFSETFROM:+
RRULE:FREQ=YEARLY;BYMONTH=10;BYDAY=1SU
DTSTART:20081005T020000
TZNAME:AEDT
TZOFFSETTO:+1100
END:DAYLIGHT
END:VTIMEZONE
BEGIN:VEVENT
CREATED:20260426T012452
UID:Property21592423Inspection57435667
DTEND;TZID=Australia/:20260429T154500
TRANSP:OPAQUE
SUMMARY:Open For Inspection: 11A Herbert Road, East Bunbury
DESCRIPTION:Parkside Living in the Heart of East Bunbury! - Freshly updated and perfectly positioned, this 2-bedroom front unit offers the ultimate blend of style and convenience. Directly across from P.C. Payne Park, you're just steps away from nature and minutes from the city's best hubs.

The Highlights
* Brand New Inside: Enjoy a fresh start with new paint, new flooring, and new blinds throughout.
* Space & Storage: Two spacious bedrooms featuring large built-in wardrobes, plus a handy outdoor shed.
* Prime Location: A short walk to Bunbury Centrepoint and Bunbury Forum. Coina Primary School and the Parade Hotel are right around the corner.
* Secure & Easy: Feel safe with secure parking behind a large gate and fence. The low-maintenance yard means more time for your weekends.

Property Details
* 2 Bedrooms | 1 Bathroom
* Directly across from P.C. Payne Park
* Secure gated parking
* Low-maintenance gardens + Shed

Don't miss out on this East Bunbury gem!

Viewing Information:
* No bookings required.
* Keep an eye on the listing for specific dates and times.
* Simply turn up on the day!

Applications via https://www.harcourtsapg.com.au/rent/online-rental-application-form

**Disclaimer: We have in preparing this document used our best endeavours to ensure the information contained is true and accurate, but accept no responsibility and disclaim all liability in respect to any errors, omissions, inaccuracies or misstatements contained. Interested parties should make their own enquiries to verify the information contained in this material. Licensee: Real Court Pty Ltd ABN 79 124 092 093
LAST-MODIFIED:20260426T012452
DTSTAMP:20260426T012452
DTSTART;TZID=Australia/:20260429T153000
LOCATION:11A Herbert Road East Bunbury WA 6230
URL:https://www.harcourtsapg.com.au//21592423
SEQUENCE:0
END:VEVENT
END:VCALENDAR
