BEGIN:VCALENDAR
VERSION:2.0
PRODID:-//Apple Inc.//iCal 5.0.2//EN
CALSCALE:GREGORIAN
BEGIN:VTIMEZONE
TZID:Australia/
BEGIN:STANDARD
TZOFFSETFROM:+1100
RRULE:FREQ=YEARLY;BYMONTH=4;BYDAY=1SU
DTSTART:20080406T030000
TZNAME:
TZOFFSETTO:+
END:STANDARD
BEGIN:DAYLIGHT
TZOFFSETFROM:+
RRULE:FREQ=YEARLY;BYMONTH=10;BYDAY=1SU
DTSTART:20081005T020000
TZNAME:AEDT
TZOFFSETTO:+1100
END:DAYLIGHT
END:VTIMEZONE
BEGIN:VEVENT
CREATED:20260424T190230
UID:Property21620528Inspection57435622
DTEND;TZID=Australia/:20260428T091500
TRANSP:OPAQUE
SUMMARY:Open For Inspection: 1/8 Beach Street, Woolgoolga
DESCRIPTION:Stylish 4-Bedroom Townhouse in the Heart of Woolgoolga - Modern and spacious, this two-level townhouse offers comfort, style and a relaxed coastal lifestyle. Featuring 4 bedrooms, 2 bathrooms, 3 toilets and a double lock-up garage, it's ideal for families or professionals.

The lower level includes two bedrooms with built-in wardrobes, a stylish main bathroom, full-size laundry and internal garage access. Upstairs, enjoy a light-filled open-plan living, dining and kitchen area with stone benchtops, walk-in pantry and island bench, flowing onto a private covered patio-perfect for entertaining.

The upper level also features two additional bedrooms, including a master with walk-in robe and ensuite, plus a second bedroom with walk-in robe and a convenient powder room.

With secure parking for two vehicles and ample storage, this home is perfectly positioned close to cafés, shops, beaches, parks and local schools in the heart of Woolgoolga.
LAST-MODIFIED:20260424T190230
DTSTAMP:20260424T190230
DTSTART;TZID=Australia/:20260428T090000
LOCATION:1/8 Beach Street Woolgoolga NSW 2456
URL:http://www.woolgoolgarealestate.com.au/21620528
SEQUENCE:0
END:VEVENT
END:VCALENDAR
