BEGIN:VCALENDAR
VERSION:2.0
PRODID:-//Apple Inc.//iCal 5.0.2//EN
CALSCALE:GREGORIAN
BEGIN:VTIMEZONE
TZID:Australia/
BEGIN:STANDARD
TZOFFSETFROM:+1100
RRULE:FREQ=YEARLY;BYMONTH=4;BYDAY=1SU
DTSTART:20080406T030000
TZNAME:
TZOFFSETTO:+
END:STANDARD
BEGIN:DAYLIGHT
TZOFFSETFROM:+
RRULE:FREQ=YEARLY;BYMONTH=10;BYDAY=1SU
DTSTART:20081005T020000
TZNAME:AEDT
TZOFFSETTO:+1100
END:DAYLIGHT
END:VTIMEZONE
BEGIN:VEVENT
CREATED:20260424T215421
UID:Property21532064Inspection57429739
DTEND;TZID=Australia/:20260426T113000
TRANSP:OPAQUE
SUMMARY:Open For Inspection: 23 Swan Road, Te Kauwhata
DESCRIPTION:Where Family Life Tees Off - Step into comfort and convenience in this beautifully presented 4-bedroom, 2-bathroom home, with solar panels helping with the everyday rising power costs, nestled in the highly sought-after Te Kauwhata Golf Course development. Perfectly positioned within the coveted Golden Triangle of Auckland, Waikato, and the Coromandel, this property offers lifestyle living without compromise.

Enjoy the luxury of being just minutes from the expressway-making travel North or South a breeze. Even better, this home is within walking distance to all essential amenities: local daycares, primary and secondary schooling options, a pharmacy, doctor's office, cafes, eateries, parks, and so much more. Everything your family needs is right at your doorstep.

This home is perfect for first home buyers, families wanting to downsize from lifestyle to urban living, whereby there is no work to be done to this home but yet, there is enough of a blank landscape to make this house your blend of urban living by planting your own choice of gardens and trees.

Set on an oversized, private section-rare for this area-the backyard is a true highlight, with a generous paved patio perfect for summer barbecues, entertaining, or simply relaxing in the sun with the family.

Don't miss the chance to secure a quality home in one of the region's fastest-growing and most desirable communities.
LAST-MODIFIED:20260424T215421
DTSTAMP:20260424T215421
DTSTART;TZID=Australia/:20260426T110000
LOCATION:23 Swan Road Te Kauwhata Waikato 3781
URL:http://www.bespokerealestate.co.nz/21532064
SEQUENCE:0
END:VEVENT
END:VCALENDAR
