BEGIN:VCALENDAR
VERSION:2.0
PRODID:-//Apple Inc.//iCal 5.0.2//EN
CALSCALE:GREGORIAN
BEGIN:VTIMEZONE
TZID:Australia/
BEGIN:STANDARD
TZOFFSETFROM:+1100
RRULE:FREQ=YEARLY;BYMONTH=4;BYDAY=1SU
DTSTART:20080406T030000
TZNAME:
TZOFFSETTO:+
END:STANDARD
BEGIN:DAYLIGHT
TZOFFSETFROM:+
RRULE:FREQ=YEARLY;BYMONTH=10;BYDAY=1SU
DTSTART:20081005T020000
TZNAME:AEDT
TZOFFSETTO:+1100
END:DAYLIGHT
END:VTIMEZONE
BEGIN:VEVENT
CREATED:20260424T215537
UID:Property21600344Inspection57429740
DTEND;TZID=Australia/:20260426T121500
TRANSP:OPAQUE
SUMMARY:Open For Inspection: 30 Murray Ward Drive, Te Kauwhata
DESCRIPTION:Grand in Scale - Refined in Design - Nestled within the prestigious Golf Course subdivision, this impeccably presented five-year-young residence delivers an exceptional standard of modern family living on one of Te Kauwhata's more substantial land holdings.

Thoughtfully designed and beautifully proportioned, the home offers four generously scaled bedrooms, including a private master retreat complete with ensuite and walk-in wardrobe. A second elegantly appointed bathroom services the remaining bedrooms with ease.

Two expansive living areas provide versatility and sophistication - ideal for both relaxed family living and effortless entertaining. Clean architectural lines, contemporary finishes, and an intelligent layout create a home that feels both welcoming and refined.

Outdoors, a fully fenced and private entertaining zone offers seamless indoor-outdoor flow - a secure sanctuary for children and pets, while providing the perfect backdrop for outdoor dining and summer gatherings.

Set on one of the larger sections in this highly desirable enclave, the property offers space, privacy, and presence - a rare combination in today's market.

Positioned to attract discerning buyers and priced with intent, this is an opportunity to secure premium living in one of Te Kauwhata's most sought-after neighbourhoods.

Experience the lifestyle. Secure the address
LAST-MODIFIED:20260424T215537
DTSTAMP:20260424T215537
DTSTART;TZID=Australia/:20260426T114500
LOCATION:30 Murray Ward Drive Te Kauwhata Waikato 3710
URL:http://www.bespokerealestate.co.nz/21600344
SEQUENCE:0
END:VEVENT
END:VCALENDAR
