BEGIN:VCALENDAR
VERSION:2.0
PRODID:-//Apple Inc.//iCal 5.0.2//EN
CALSCALE:GREGORIAN
BEGIN:VTIMEZONE
TZID:Australia/
BEGIN:STANDARD
TZOFFSETFROM:+1100
RRULE:FREQ=YEARLY;BYMONTH=4;BYDAY=1SU
DTSTART:20080406T030000
TZNAME:
TZOFFSETTO:+
END:STANDARD
BEGIN:DAYLIGHT
TZOFFSETFROM:+
RRULE:FREQ=YEARLY;BYMONTH=10;BYDAY=1SU
DTSTART:20081005T020000
TZNAME:AEDT
TZOFFSETTO:+1100
END:DAYLIGHT
END:VTIMEZONE
BEGIN:VEVENT
CREATED:20260424T215413
UID:Property21608950Inspection57429741
DTEND;TZID=Australia/:20260426T130000
TRANSP:OPAQUE
SUMMARY:Open For Inspection: 19 Crake Street, Te Kauwhata
DESCRIPTION:Stop Renting - Start Owning - Looking for a home that blends modern vibes with ultimate convenience?
Step inside and discover a bright, open-plan layout that immediately welcomes you home.

The living room, filled with natural light, offers an inviting atmosphere perfect for both relaxing and entertaining guests. Adjacent to the living area, the modern kitchen provides generous bench space and easily accommodates a dining table, streamlining your daily routines.

Every bedroom in this home is thoughtfully designed to provide ample space, creating a tranquil haven where you can unwind after a busy day. Fitted with ceiling fans, these rooms maintain a comfortable atmosphere throughout the seasons. The contemporary bathroom seamlessly combines practicality with elegant design.

Step outside into your own private courtyard, where the indoor living space flows effortlessly into a tranquil outdoor retreat-perfect for enjoying a quiet morning coffee or relaxing in the evening. The home is thoughtfully equipped with double glazing for year-round comfort, a powered garden shed to accommodate all your projects, and a streamlined irrigation system to keep the garden lush with minimal effort. For added convenience, a smart storage cupboard with power is on hand, making organisation and daily tasks even simpler.

Conveniently located near local amenities, cafes, and parks, this home is an excellent choice for first-time buyers, investors, or downsizers seeking a harmonious blend of style and practicality

LAST-MODIFIED:20260424T215413
DTSTAMP:20260424T215413
DTSTART;TZID=Australia/:20260426T123000
LOCATION:19 Crake Street Te Kauwhata Waikato 3710
URL:http://www.bespokerealestate.co.nz/21608950
SEQUENCE:0
END:VEVENT
END:VCALENDAR
