BEGIN:VCALENDAR
VERSION:2.0
PRODID:-//Apple Inc.//iCal 5.0.2//EN
CALSCALE:GREGORIAN
BEGIN:VTIMEZONE
TZID:Australia/
BEGIN:STANDARD
TZOFFSETFROM:+1100
RRULE:FREQ=YEARLY;BYMONTH=4;BYDAY=1SU
DTSTART:20080406T030000
TZNAME:
TZOFFSETTO:+
END:STANDARD
BEGIN:DAYLIGHT
TZOFFSETFROM:+
RRULE:FREQ=YEARLY;BYMONTH=10;BYDAY=1SU
DTSTART:20081005T020000
TZNAME:AEDT
TZOFFSETTO:+1100
END:DAYLIGHT
END:VTIMEZONE
BEGIN:VEVENT
CREATED:20260421T181805
UID:Property21603737Inspection57419140
DTEND;TZID=Australia/:20260418T113000
TRANSP:OPAQUE
SUMMARY:Open For Inspection: 20 The Boulevard, BENOWA
DESCRIPTION:Luxury Waterfront Living in Prestigious Benowa Enclave - Positioned in one of Benowa's most tightly held and prestigious streets, 20 The Boulevard presents an exceptional opportunity to secure a luxury waterfront residence in the heart of the Gold Coast.
Set on a generous parcel within the exclusive Royal Pines precinct, this impressive home combines space, privacy and lifestyle - offering elegant interiors, multiple living zones and seamless indoor-outdoor entertaining.

Property Highlights:

• Expansive waterfront position with tranquil outlook
• Generous land size in a blue-chip Benowa address
• Multiple formal and informal living areas
• Large open-plan kitchen with quality appliances and stone benchtops
• Oversized master suite with walk-in robe and ensuite
• Well-appointed bedrooms with built-in wardrobes
• Covered alfresco entertaining area overlooking the water
• Secure double garage plus additional off-street parking
• Ducted air-conditioning and ample storage throughout

Designed for effortless family living and entertaining, the home flows seamlessly from indoor living spaces to outdoor entertaining areas, capturing cooling breezes and peaceful water views.

Whether you are hosting guests, enjoying sunset drinks by the water, or relaxing in one of the spacious living areas, this residence offers both comfort and sophistication.

Location Benefits:
Situated within the highly sought-after Royal Pines area, you are moments from:

• Royal Pines Golf Course
• Elite schools including Benowa State High School
• Pindara Private Hospital
• Benowa Gardens Shopping Centre
• Surfers Paradise beaches (approx. 10 minutes)
• Easy access to the M1 for Brisbane commute

This is a rare opportunity to secure premium waterfront real estate in one of the Gold Coast's most desirable residential pockets.

Vendor is very motivated; all serious offers are welcome! 

Please view the property here:
https://drive.google.com/file/d/1DTJQ2XDAFLHAas4YRbmNe6bPspgjTLdx/view?usp=sharing

"This property is being sold without a price, and therefore a price guide cannot be provided. The website may have filtered the property into a price bracket for website functionality only".

All information contained herein is gathered from sources we consider to be reliable. However, we cannot guarantee or give any warranty about the information provided and interested parties must solely rely on their own enquiries.
LAST-MODIFIED:20260421T181805
DTSTAMP:20260421T181805
DTSTART;TZID=Australia/:20260418T110000
LOCATION:20 The Boulevard BENOWA QLD 4217
URL:http://www.yong.com.au/21603737
SEQUENCE:0
END:VEVENT
END:VCALENDAR
