BEGIN:VCALENDAR
VERSION:2.0
PRODID:-//Apple Inc.//iCal 5.0.2//EN
CALSCALE:GREGORIAN
BEGIN:VTIMEZONE
TZID:Australia/
BEGIN:STANDARD
TZOFFSETFROM:+1100
RRULE:FREQ=YEARLY;BYMONTH=4;BYDAY=1SU
DTSTART:20080406T030000
TZNAME:
TZOFFSETTO:+
END:STANDARD
BEGIN:DAYLIGHT
TZOFFSETFROM:+
RRULE:FREQ=YEARLY;BYMONTH=10;BYDAY=1SU
DTSTART:20081005T020000
TZNAME:AEDT
TZOFFSETTO:+1100
END:DAYLIGHT
END:VTIMEZONE
BEGIN:VEVENT
CREATED:20260421T211247
UID:Property20469999Inspection57430602
DTEND;TZID=Australia/:20260424T101000
TRANSP:OPAQUE
SUMMARY:Open For Inspection: 178 Brown Street, Armidale
DESCRIPTION:Charming Cottage in the Heart of Armidale - Welcome to 178 Brown Street, a beautifully renovated cottage that combines character, warmth, and modern comfort. Perfectly positioned close to Armidale's CBD, parks, and cafes, this delightful home offers a peaceful retreat with everything you need right at your doorstep, key features include:
- 3 spacious bedrooms
- Open plan kitchen living dining, kitchen includes dishwasher
- Freshly painted throughout
- Air-conditioning in the living room
- Extra storage room in back yard
- Beautiful easy to maintain gardens
- Second toilet in laundry area
- Off street parking
- Large yard, fully fenced 

Contact the office to book your inspection today!

*All information contained here is gathered from sources that we believe to be reliable, however, we cannot guarantee its accuracy and interested persons should rely on their own enquiries*
LAST-MODIFIED:20260421T211247
DTSTAMP:20260421T211247
DTSTART;TZID=Australia/:20260424T100000
LOCATION:178 Brown Street Armidale NSW 2350
URL:http://www.armidaletownandcountry.com.au/20469999
SEQUENCE:0
END:VEVENT
END:VCALENDAR
