BEGIN:VCALENDAR
VERSION:2.0
PRODID:-//Apple Inc.//iCal 5.0.2//EN
CALSCALE:GREGORIAN
BEGIN:VTIMEZONE
TZID:Australia/
BEGIN:STANDARD
TZOFFSETFROM:+1100
RRULE:FREQ=YEARLY;BYMONTH=4;BYDAY=1SU
DTSTART:20080406T030000
TZNAME:
TZOFFSETTO:+
END:STANDARD
BEGIN:DAYLIGHT
TZOFFSETFROM:+
RRULE:FREQ=YEARLY;BYMONTH=10;BYDAY=1SU
DTSTART:20081005T020000
TZNAME:AEDT
TZOFFSETTO:+1100
END:DAYLIGHT
END:VTIMEZONE
BEGIN:VEVENT
CREATED:20260425T073406
UID:Property17800695Inspection57434325
DTEND;TZID=Australia/:20260501T104000
TRANSP:OPAQUE
SUMMARY:Open For Inspection: 1/10 Northey Drive, Armidale
DESCRIPTION:REFURBISHED NORTH HILL UNIT - Welcome to 1/10 Northey Drive, Armidale! - Welcome to 1/10 Northey Drive, Armidale!
Tucked in a small, quiet cul-du-sac in North Armidale is this two bedroom gem! This unit is close to North Hill amenities and local schools. Features include:

- Two double bedrooms, both with cupboard space
- Newly updated flooring 
- Neat kitchen
- Air Conditioning Unit
- Single lock up garage 
- Separate laundry
- Lawns & Water Included

Call today to book your inspection.

*All information contained here is gathered from sources we believe to be reliable, however, we cannot guarantee its accuracy and interested persons should rely on their own enquiries*
LAST-MODIFIED:20260425T073406
DTSTAMP:20260425T073406
DTSTART;TZID=Australia/:20260501T103000
LOCATION:1/10 Northey Drive Armidale NSW 2350
URL:http://www.armidaletownandcountry.com.au/17800695
SEQUENCE:0
END:VEVENT
END:VCALENDAR
